BEGIN:VCALENDAR
VERSION:2.0
PRODID:-//Boomi ry - ECPv6.15.20//NONSGML v1.0//EN
CALSCALE:GREGORIAN
METHOD:PUBLISH
X-WR-CALNAME:Boomi ry
X-ORIGINAL-URL:https://boomi.fi
X-WR-CALDESC:Events for Boomi ry
REFRESH-INTERVAL;VALUE=DURATION:PT1H
X-Robots-Tag:noindex
X-PUBLISHED-TTL:PT1H
BEGIN:VTIMEZONE
TZID:Europe/Helsinki
BEGIN:DAYLIGHT
TZOFFSETFROM:+0200
TZOFFSETTO:+0300
TZNAME:EEST
DTSTART:20240331T010000
END:DAYLIGHT
BEGIN:STANDARD
TZOFFSETFROM:+0300
TZOFFSETTO:+0200
TZNAME:EET
DTSTART:20241027T010000
END:STANDARD
BEGIN:DAYLIGHT
TZOFFSETFROM:+0200
TZOFFSETTO:+0300
TZNAME:EEST
DTSTART:20250330T010000
END:DAYLIGHT
BEGIN:STANDARD
TZOFFSETFROM:+0300
TZOFFSETTO:+0200
TZNAME:EET
DTSTART:20251026T010000
END:STANDARD
BEGIN:DAYLIGHT
TZOFFSETFROM:+0200
TZOFFSETTO:+0300
TZNAME:EEST
DTSTART:20260329T010000
END:DAYLIGHT
BEGIN:STANDARD
TZOFFSETFROM:+0300
TZOFFSETTO:+0200
TZNAME:EET
DTSTART:20261025T010000
END:STANDARD
END:VTIMEZONE
BEGIN:VEVENT
DTSTART;TZID=Europe/Helsinki:20250422T110000
DTEND;TZID=Europe/Helsinki:20250422T170000
DTSTAMP:20260419T195521
CREATED:20250319T171533Z
LAST-MODIFIED:20250319T171533Z
UID:13157-1745319600-1745341200@boomi.fi
SUMMARY:The Greatest Country Duo - Allianssisillis
DESCRIPTION:WHERE: Location X \nWHEN: April 22\, 2024 Buses depart from Tampere Hall at 11.00 \nWHY: Because alliance friends are the best company\, and a duet needs two singers! \nHOW TO JOIN: Ticket sales on Kide.app April 1st at 10am and at Bola April 2nd at 10am \nCOST: 19€ \nDRESS CODE: Country + Overalls \nPack your banjo and cowboy hat\, grab the bull by the horns\, and head toward the Wild West! Get ready to enjoy the greatest country hits and form the wildest alliance duos. Find yourself a new amigo at the sillis and dance together to Old Town Road! \nExpect delicious food and cowboy-worthy challenges\, where the toughest in town will be crowned accordingly. A wild western adventure awaits as Boomi and Pörssi come together for traditional sillis activities. So don’t walk—gallop your way over and let country music sweep you off your feet! 🤠🎶 \n\nLet’s keep Boomi’s Vappu safe and free from harassment for everyone. Boomi’s safer space policy will be followed throughout Vappu. Boomin has a zero-tolerance policy for harassment and inappropriate behavior. However\, if you encounter inappropriate behavior\, you can contact Boomi’s harassment support persons. Contact information for Boomi’s harassment support persons can be found here. Alternatively\, you can contact Trey’s harassment contact persons at harassment@trey.fi. If necessary\, the event organizer may remove a person behaving disruptively from the event.
URL:https://boomi.fi/en/tapahtuma/the-greatest-country-duo-allianssisillis/
ATTACH;FMTTYPE=image/png:https://boomi.fi/wp-content/uploads/2025/03/Allianssisillis-banneri-1.png
END:VEVENT
END:VCALENDAR