BEGIN:VCALENDAR
VERSION:2.0
PRODID:-//Boomi ry - ECPv6.15.20//NONSGML v1.0//EN
CALSCALE:GREGORIAN
METHOD:PUBLISH
X-ORIGINAL-URL:https://boomi.fi
X-WR-CALDESC:Events for Boomi ry
REFRESH-INTERVAL;VALUE=DURATION:PT1H
X-Robots-Tag:noindex
X-PUBLISHED-TTL:PT1H
BEGIN:VTIMEZONE
TZID:Europe/Helsinki
BEGIN:DAYLIGHT
TZOFFSETFROM:+0200
TZOFFSETTO:+0300
TZNAME:EEST
DTSTART:20240331T010000
END:DAYLIGHT
BEGIN:STANDARD
TZOFFSETFROM:+0300
TZOFFSETTO:+0200
TZNAME:EET
DTSTART:20241027T010000
END:STANDARD
BEGIN:DAYLIGHT
TZOFFSETFROM:+0200
TZOFFSETTO:+0300
TZNAME:EEST
DTSTART:20250330T010000
END:DAYLIGHT
BEGIN:STANDARD
TZOFFSETFROM:+0300
TZOFFSETTO:+0200
TZNAME:EET
DTSTART:20251026T010000
END:STANDARD
BEGIN:DAYLIGHT
TZOFFSETFROM:+0200
TZOFFSETTO:+0300
TZNAME:EEST
DTSTART:20260329T010000
END:DAYLIGHT
BEGIN:STANDARD
TZOFFSETFROM:+0300
TZOFFSETTO:+0200
TZNAME:EET
DTSTART:20261025T010000
END:STANDARD
END:VTIMEZONE
BEGIN:VEVENT
DTSTART;TZID=Europe/Helsinki:20250426T120000
DTEND;TZID=Europe/Helsinki:20250426T160000
DTSTAMP:20260419T195715
CREATED:20250319T173400Z
LAST-MODIFIED:20250319T173400Z
UID:13164-1745668800-1745683200@boomi.fi
SUMMARY:C'est la Vappubrunssi
DESCRIPTION:WHERE: Klubi57 and Neukkari\nWHEN: April 26\, 12 PM–4 PM\nWHY: Because a relaxing brunch is the perfect cure after sitsit\nHOW TO JOIN: Included in Boomi’s May Day Pass \nBomorrowland is over\, but the party spirit still lingers. The journey isn’t over yet! Recharge with refreshing mimosas and a cozy brunch with French classics. \nEnjoy French breakfast favorites\, deep-fried classics\, and fresh veggies. Special diets are of course considered. Take this moment to relax\, reflect on the school year\, and get ready for the final May Day push!\nAttendance will be staggered\, more info later. \nThe event is part of Boomi’s Vappu Pass
URL:https://boomi.fi/en/tapahtuma/cest-la-vappubrunssi/
LOCATION:Klubi 57\, Pinninkatu 57\, Tampere\, 33100\, Finland
ATTACH;FMTTYPE=image/png:https://boomi.fi/wp-content/uploads/2025/03/brunssi-2.png
END:VEVENT
END:VCALENDAR