BEGIN:VCALENDAR
VERSION:2.0
PRODID:-//Boomi ry - ECPv6.15.20//NONSGML v1.0//EN
CALSCALE:GREGORIAN
METHOD:PUBLISH
X-WR-CALNAME:Boomi ry
X-ORIGINAL-URL:https://boomi.fi
X-WR-CALDESC:Events for Boomi ry
REFRESH-INTERVAL;VALUE=DURATION:PT1H
X-Robots-Tag:noindex
X-PUBLISHED-TTL:PT1H
BEGIN:VTIMEZONE
TZID:Europe/Helsinki
BEGIN:DAYLIGHT
TZOFFSETFROM:+0200
TZOFFSETTO:+0300
TZNAME:EEST
DTSTART:20240331T010000
END:DAYLIGHT
BEGIN:STANDARD
TZOFFSETFROM:+0300
TZOFFSETTO:+0200
TZNAME:EET
DTSTART:20241027T010000
END:STANDARD
BEGIN:DAYLIGHT
TZOFFSETFROM:+0200
TZOFFSETTO:+0300
TZNAME:EEST
DTSTART:20250330T010000
END:DAYLIGHT
BEGIN:STANDARD
TZOFFSETFROM:+0300
TZOFFSETTO:+0200
TZNAME:EET
DTSTART:20251026T010000
END:STANDARD
BEGIN:DAYLIGHT
TZOFFSETFROM:+0200
TZOFFSETTO:+0300
TZNAME:EEST
DTSTART:20260329T010000
END:DAYLIGHT
BEGIN:STANDARD
TZOFFSETFROM:+0300
TZOFFSETTO:+0200
TZNAME:EET
DTSTART:20261025T010000
END:STANDARD
END:VTIMEZONE
BEGIN:VEVENT
DTSTART;TZID=Europe/Helsinki:20250430T120000
DTEND;TZID=Europe/Helsinki:20250430T160000
DTSTAMP:20260419T195515
CREATED:20250319T173835Z
LAST-MODIFIED:20250319T173835Z
UID:13166-1746014400-1746028800@boomi.fi
SUMMARY:Eternal May Day – May Day Sillis
DESCRIPTION:WHERE: Klubi57 & Sauna57\nWHEN: Wednesday\, April 30\, 12 PM–4 PM\nWHY: JVG + Sauna + Hot Tub = TARKENEE!\nHOW TO JOIN: Included in Boomi’s May Day Pass \n🎶 “And the journey continues… from Särmä to Bola\, from Bola to Teekkari Kaste…” 🎶\nIs May Day starting to feel a little too eternal? Got speed blindness? Looking for some legendary vibes? Forget the morning shakes and come share your May Day stories at Klubi57. Sauna’s hot\, the hot tub’s ready\, and Salmari is served from a pint glass (4cl). Enjoy the golden era of Finnish rap with tasty treats. Everyone knows the JVG lyrics\, no matter the state of mind! Expect fun quizzes with awesome JVG merch prizes. Maybe this is it?\nLet’s keep the event safe and harassment-free! Boomi has zero tolerance for inappropriate behavior. Details at Boomi’s harassment page.
URL:https://boomi.fi/en/tapahtuma/eternal-may-day-may-day-sillis/
LOCATION:Klubi 57\, Pinninkatu 57\, Tampere\, 33100\, Finland
ATTACH;FMTTYPE=image/jpeg:https://boomi.fi/wp-content/uploads/2025/03/ikuinen-2-scaled.jpg
END:VEVENT
END:VCALENDAR