BEGIN:VCALENDAR
VERSION:2.0
PRODID:-//Boomi ry - ECPv6.15.20//NONSGML v1.0//EN
CALSCALE:GREGORIAN
METHOD:PUBLISH
X-WR-CALNAME:Boomi ry
X-ORIGINAL-URL:https://boomi.fi
X-WR-CALDESC:Events for Boomi ry
REFRESH-INTERVAL;VALUE=DURATION:PT1H
X-Robots-Tag:noindex
X-PUBLISHED-TTL:PT1H
BEGIN:VTIMEZONE
TZID:Europe/Helsinki
BEGIN:DAYLIGHT
TZOFFSETFROM:+0200
TZOFFSETTO:+0300
TZNAME:EEST
DTSTART:20240331T010000
END:DAYLIGHT
BEGIN:STANDARD
TZOFFSETFROM:+0300
TZOFFSETTO:+0200
TZNAME:EET
DTSTART:20241027T010000
END:STANDARD
BEGIN:DAYLIGHT
TZOFFSETFROM:+0200
TZOFFSETTO:+0300
TZNAME:EEST
DTSTART:20250330T010000
END:DAYLIGHT
BEGIN:STANDARD
TZOFFSETFROM:+0300
TZOFFSETTO:+0200
TZNAME:EET
DTSTART:20251026T010000
END:STANDARD
BEGIN:DAYLIGHT
TZOFFSETFROM:+0200
TZOFFSETTO:+0300
TZNAME:EEST
DTSTART:20260329T010000
END:DAYLIGHT
BEGIN:STANDARD
TZOFFSETFROM:+0300
TZOFFSETTO:+0200
TZNAME:EET
DTSTART:20261025T010000
END:STANDARD
END:VTIMEZONE
BEGIN:VEVENT
DTSTART;TZID=Europe/Helsinki:20250626T170000
DTEND;TZID=Europe/Helsinki:20250626T170000
DTSTAMP:20260419T215021
CREATED:20250616T171844Z
LAST-MODIFIED:20250616T171844Z
UID:13507-1750957200-1750957200@boomi.fi
SUMMARY:Afterwork for Boomis’ Alumni and Master’s Students in Tampere
DESCRIPTION:WHERE: Kaupinoja Beach\, Kaupinpuistonkatu 2\, 33500 Tampere\nWHEN: Thursday\, June 26 at 17:00\nFOR WHOM: All Boomi alumni & current members\nHOW TO JOIN: Register via this link by June 22: https://forms.office.com/e/vY4MyMLeYT\nCOST: FREE \nMay Day is behind us\, Midsummer is nearly here\, and summer is warming us all — whether in the office or elsewhere. But summer doesn’t have to be all about work! This is your chance to reconnect with old friends and meet new ones at the Boomi Alumni & Master’s Afterwork. \nOn June 26 from 17:00 to 18:00\, we’ll gather at Kaupinoja Beach in Tampere (Kaupinpuistonkatu 2\, 33500 Tampere) for some relaxed stand-up paddleboarding — in the best company and hopefully under sunny skies. Whether you’re an experienced paddler or giving it a try for the first time\, you’re sure to have a good time in this laid-back group.\nThe event is open to both former Boomi members and those still studying. And don’t worry if you didn’t land a summer job — neither did the organizer! That’s no reason to miss out on this great atmosphere. \nAll you need to bring is a good mood and clothing suitable for paddleboarding — including a change of clothes and any other necessary gear. \nPlease register in advance so we can reserve enough boards. The event is completely free. Register here: https://forms.office.com/e/vY4MyMLeYT — registration closes on June 22 at 23:59. \nLet’s keep the event safe and free from harassment. Boomi has zero tolerance for inappropriate behavior or harassment. If you experience or witness any misconduct\, you can reach out to Boomi’s harassment support persons. Contact details: https://boomi.fi/opiskelu/hairinta/. You may also contact TREY’s harassment contact persons at hairinta@trey.fi.\nBy participating in this event\, you agree to follow Boomi’s Safer Space Principles: https://boomi.fi/turvallisemmantilan-periaatteet/. The event organizers reserve the right to remove anyone who behaves disruptively.\nPlease note: the event is not accessible. For accessibility-related questions\, contact Alex Lindh at 045 1104177 / Telegram: @HappeningsLindi
URL:https://boomi.fi/en/tapahtuma/afterwork-for-boomis-alumni-and-masters-students-in-tampere/
ATTACH;FMTTYPE=image/jpeg:https://boomi.fi/wp-content/uploads/2025/06/2.jpg
END:VEVENT
END:VCALENDAR