BEGIN:VCALENDAR
VERSION:2.0
PRODID:-//Boomi ry - ECPv6.15.20//NONSGML v1.0//EN
CALSCALE:GREGORIAN
METHOD:PUBLISH
X-ORIGINAL-URL:https://boomi.fi
X-WR-CALDESC:Events for Boomi ry
REFRESH-INTERVAL;VALUE=DURATION:PT1H
X-Robots-Tag:noindex
X-PUBLISHED-TTL:PT1H
BEGIN:VTIMEZONE
TZID:Europe/Helsinki
BEGIN:DAYLIGHT
TZOFFSETFROM:+0200
TZOFFSETTO:+0300
TZNAME:EEST
DTSTART:20240331T010000
END:DAYLIGHT
BEGIN:STANDARD
TZOFFSETFROM:+0300
TZOFFSETTO:+0200
TZNAME:EET
DTSTART:20241027T010000
END:STANDARD
BEGIN:DAYLIGHT
TZOFFSETFROM:+0200
TZOFFSETTO:+0300
TZNAME:EEST
DTSTART:20250330T010000
END:DAYLIGHT
BEGIN:STANDARD
TZOFFSETFROM:+0300
TZOFFSETTO:+0200
TZNAME:EET
DTSTART:20251026T010000
END:STANDARD
BEGIN:DAYLIGHT
TZOFFSETFROM:+0200
TZOFFSETTO:+0300
TZNAME:EEST
DTSTART:20260329T010000
END:DAYLIGHT
BEGIN:STANDARD
TZOFFSETFROM:+0300
TZOFFSETTO:+0200
TZNAME:EET
DTSTART:20261025T010000
END:STANDARD
END:VTIMEZONE
BEGIN:VEVENT
DTSTART;TZID=Europe/Helsinki:20251002T173000
DTEND;TZID=Europe/Helsinki:20251002T220000
DTSTAMP:20260421T190401
CREATED:20250914T172821Z
LAST-MODIFIED:20250915T072608Z
UID:14082-1759426200-1759442400@boomi.fi
SUMMARY:Loskatorstai
DESCRIPTION:WHEN: October 2nd\, 2025 at 5:30 PM\nWHERE: Pii-Klubi\nWHY: Because slush in a glass is better than on the street — and HB deserves a proper pre-party\nTICKETS: Slush Pass + HB €7\, Loska Pass only €4\nHOW TO JOIN: Tickets will be sold at September 18th at 12:oo PM on Kide.app. Link to the ticket sale is here. \nThe fall season kicks off once again with the legendary and long-awaited Loskatorstai by Konversio! The Konversio brand may have changed\, but some things are simply too good to give up. Loskatorstai sets the perfect tone for the evening’s Overalls Party — or works as a complete event in itself. \nThe structure of the event remains tried and tested this year\, with the biggest change being our new venue — just across the block\, now at Pii-Klubi! Doors open at the familiar time\, 5:30 PM\, and an industry expert will start their fantastic talk at 6:00 PM. Once the talk wraps up at 7:00 PM\, the legendary open bar swings into action — and no\, the ice cubes are the only part watered down. As usual\, alcohol-free mocktails are also on the menu. \nThe evening wraps up by 10:00 PM sharp — time to head to the Overalls Party\, home\, or wherever the night takes you. \nWhile the open bar will be serving drinks throughout the event\, supply isn’t endless — so if you’re extra thirsty\, BYOB is allowed. \nThe speaker will be announced on Konversio’s Instagram on September 17th — don’t miss it!\nCheck it out here: https://www.instagram.com/konversio_/ \nOver the years\, Loskatorstai has featured CEOs\, marketing managers\, and more\, speaking on hot topics in marketing. This year’s speaker is no exception — quite the opposite. This talk will be fascinating for marketing students and anyone else\, as the topic hits close to home for all of us. So check the reveal\, grab your ticket from Kide.app\, and join us for the slushiest event of the year! Please notice that the speaker will held his part in finnish. \nTicket sales open Thursday\, September 18th at 12:00 PM on Kide.app.\nThere are two ticket types: \n\nLoska Pass+ HB €7 (approx. 130 tickets)\nLoska Pass only €4 (approx. 40 tickets)\n\nNOTE: Those with Loska Pass + HB ticket will receive a wristband at the event\, which also acts as your entrance ticket to October’s Overalls Party. \nHow to get to Pii-Klubi:\nAddress: Yliopistonkatu 58b\, 33100 Tampere.\nAcross from Tampere-talo\, in the same block as Bola.\nEnter the courtyard\, find the door on the right\, go down one floor\, and the first door on the right is the venue. Look for “Loskatorstai” signs at the entrance! \nThe seasoned ones already know\, and the newcomers will soon learn — this is an event you don’t want to miss!\nSee you in October! ❤️\n– Konversio \nLet’s keep the event safe and free from harassment for everyone.\nBoomi has a zero-tolerance policy towards harassment and inappropriate behavior. If you witness or experience any\, you can contact Boomi’s harassment support persons. You may also reach out to TREY’s harassment contact persons at hairinta@trey.fi.\nBy attending the event\, you agree to follow Boomi’s safer space principles. The organizers reserve the right to remove any participant behaving inappropriately. \n 
URL:https://boomi.fi/en/tapahtuma/loskatorstai-2025/
LOCATION:Pii-Klubi\, Yliopistonkatu 58b\, Tampere\, 33100\, Finland
ATTACH;FMTTYPE=image/jpeg:https://boomi.fi/wp-content/uploads/2025/09/BOOMIN-2-scaled.jpg
ORGANIZER;CN="Konversio":MAILTO:konversio@boomi.fi
END:VEVENT
END:VCALENDAR