BEGIN:VCALENDAR
VERSION:2.0
PRODID:-//Boomi ry - ECPv6.15.20//NONSGML v1.0//EN
CALSCALE:GREGORIAN
METHOD:PUBLISH
X-ORIGINAL-URL:https://boomi.fi
X-WR-CALDESC:Events for Boomi ry
REFRESH-INTERVAL;VALUE=DURATION:PT1H
X-Robots-Tag:noindex
X-PUBLISHED-TTL:PT1H
BEGIN:VTIMEZONE
TZID:Europe/Helsinki
BEGIN:DAYLIGHT
TZOFFSETFROM:+0200
TZOFFSETTO:+0300
TZNAME:EEST
DTSTART:20240331T010000
END:DAYLIGHT
BEGIN:STANDARD
TZOFFSETFROM:+0300
TZOFFSETTO:+0200
TZNAME:EET
DTSTART:20241027T010000
END:STANDARD
BEGIN:DAYLIGHT
TZOFFSETFROM:+0200
TZOFFSETTO:+0300
TZNAME:EEST
DTSTART:20250330T010000
END:DAYLIGHT
BEGIN:STANDARD
TZOFFSETFROM:+0300
TZOFFSETTO:+0200
TZNAME:EET
DTSTART:20251026T010000
END:STANDARD
BEGIN:DAYLIGHT
TZOFFSETFROM:+0200
TZOFFSETTO:+0300
TZNAME:EEST
DTSTART:20260329T010000
END:DAYLIGHT
BEGIN:STANDARD
TZOFFSETFROM:+0300
TZOFFSETTO:+0200
TZNAME:EET
DTSTART:20261025T010000
END:STANDARD
END:VTIMEZONE
BEGIN:VEVENT
DTSTART;TZID=Europe/Helsinki:20251008T170000
DTEND;TZID=Europe/Helsinki:20251008T200000
DTSTAMP:20260421T205059
CREATED:20250922T125205Z
LAST-MODIFIED:20250922T125205Z
UID:14119-1759942800-1759953600@boomi.fi
SUMMARY:Normi ry’s excursion to Lecklé!
DESCRIPTION:THIS EVENT IS HELD IN FINNISH \nWhat: Normi ry’s excursion to Lecklé! \nFor whom: All students interested in taxation! \nWhere: Lecklé’s office in Tampere\, Satakunnankatu 22 E\, 2nd floor. \nWhen: Wednesday\, October 8\, 2025\, from 17:00 to 20:00. \nHow to join: Kide.app ticket sales 25.9. at 12 https://kide.app/events/39f8c24d-f57b-49fb-b2b1-2943eed7fb1f
URL:https://boomi.fi/en/tapahtuma/normi-rys-excursion-to-leckle/
ATTACH;FMTTYPE=image/jpeg:https://boomi.fi/wp-content/uploads/2025/09/Leckle.jpg
END:VEVENT
END:VCALENDAR