BEGIN:VCALENDAR
VERSION:2.0
PRODID:-//Boomi ry - ECPv6.15.20//NONSGML v1.0//EN
CALSCALE:GREGORIAN
METHOD:PUBLISH
X-WR-CALNAME:Boomi ry
X-ORIGINAL-URL:https://boomi.fi
X-WR-CALDESC:Events for Boomi ry
REFRESH-INTERVAL;VALUE=DURATION:PT1H
X-Robots-Tag:noindex
X-PUBLISHED-TTL:PT1H
BEGIN:VTIMEZONE
TZID:Europe/Helsinki
BEGIN:DAYLIGHT
TZOFFSETFROM:+0200
TZOFFSETTO:+0300
TZNAME:EEST
DTSTART:20240331T010000
END:DAYLIGHT
BEGIN:STANDARD
TZOFFSETFROM:+0300
TZOFFSETTO:+0200
TZNAME:EET
DTSTART:20241027T010000
END:STANDARD
BEGIN:DAYLIGHT
TZOFFSETFROM:+0200
TZOFFSETTO:+0300
TZNAME:EEST
DTSTART:20250330T010000
END:DAYLIGHT
BEGIN:STANDARD
TZOFFSETFROM:+0300
TZOFFSETTO:+0200
TZNAME:EET
DTSTART:20251026T010000
END:STANDARD
BEGIN:DAYLIGHT
TZOFFSETFROM:+0200
TZOFFSETTO:+0300
TZNAME:EEST
DTSTART:20260329T010000
END:DAYLIGHT
BEGIN:STANDARD
TZOFFSETFROM:+0300
TZOFFSETTO:+0200
TZNAME:EET
DTSTART:20261025T010000
END:STANDARD
END:VTIMEZONE
BEGIN:VEVENT
DTSTART;TZID=Europe/Helsinki:20251028T090000
DTEND;TZID=Europe/Helsinki:20251028T193000
DTSTAMP:20260421T205028
CREATED:20250922T134717Z
LAST-MODIFIED:20250922T134717Z
UID:14127-1761642000-1761679800@boomi.fi
SUMMARY:Normi Ry Helsinki excursion
DESCRIPTION:THIS EVENT IS HELD IN FINNISH. \nWelcome to explore the work of legal and taxation experts and the related legal issues in an insurance company and an advocacy organization. \nThe Business Law and Tax Law study track organizes an annual excursion to Helsinki\, where we visit a few destinations of interest from both an academic and professional perspective. This year’s destinations are the pension insurance company Varma and the Confederation of Finnish Industries (EK). Varma will also provide lunch for the participants. \nThe excursion is open to all students in the Business Law and Tax Law study track\, as well as first- and second-year students who are interested in the specialization. The excursion is free of charge for students\, and participation is limited to the first 40 registrants. \nThe trip will start at around 9:00 a.m. (exact time to be confirmed closer to the date) from the university by bus to Helsinki. The return to Tampere will be no later than 7:30 p.m. \nBinding registrations for the excursion must be submitted no later than Tuesday\, October 14\, via the electronic form at: https://forms.office.com/e/YhacJ29kyy \nFor further information about the excursion\, please contact: martti.nieminen@tuni.fi
URL:https://boomi.fi/en/tapahtuma/normi-ry-helsinki-excursion/
LOCATION:Helsinki\, Helsinki\, Finland
ATTACH;FMTTYPE=image/png:https://boomi.fi/wp-content/uploads/2025/09/Nimeton-malli.png
END:VEVENT
END:VCALENDAR