BEGIN:VCALENDAR
VERSION:2.0
PRODID:-//Boomi ry - ECPv6.15.20//NONSGML v1.0//EN
CALSCALE:GREGORIAN
METHOD:PUBLISH
X-WR-CALNAME:Boomi ry
X-ORIGINAL-URL:https://boomi.fi
X-WR-CALDESC:Events for Boomi ry
REFRESH-INTERVAL;VALUE=DURATION:PT1H
X-Robots-Tag:noindex
X-PUBLISHED-TTL:PT1H
BEGIN:VTIMEZONE
TZID:Europe/Helsinki
BEGIN:DAYLIGHT
TZOFFSETFROM:+0200
TZOFFSETTO:+0300
TZNAME:EEST
DTSTART:20250330T010000
END:DAYLIGHT
BEGIN:STANDARD
TZOFFSETFROM:+0300
TZOFFSETTO:+0200
TZNAME:EET
DTSTART:20251026T010000
END:STANDARD
BEGIN:DAYLIGHT
TZOFFSETFROM:+0200
TZOFFSETTO:+0300
TZNAME:EEST
DTSTART:20260329T010000
END:DAYLIGHT
BEGIN:STANDARD
TZOFFSETFROM:+0300
TZOFFSETTO:+0200
TZNAME:EET
DTSTART:20261025T010000
END:STANDARD
BEGIN:DAYLIGHT
TZOFFSETFROM:+0200
TZOFFSETTO:+0300
TZNAME:EEST
DTSTART:20270328T010000
END:DAYLIGHT
BEGIN:STANDARD
TZOFFSETFROM:+0300
TZOFFSETTO:+0200
TZNAME:EET
DTSTART:20271031T010000
END:STANDARD
END:VTIMEZONE
BEGIN:VEVENT
DTSTART;TZID=Europe/Helsinki:20260316T080000
DTEND;TZID=Europe/Helsinki:20260316T170000
DTSTAMP:20260423T134118
CREATED:20260316T085354Z
LAST-MODIFIED:20260316T085354Z
UID:15640-1773648000-1773680400@boomi.fi
SUMMARY:Boomi's Padel games
DESCRIPTION:WHAT: Boomi’s King of the Court – a relaxed\, low-threshold padel event!\nWHERE: Padel Tampere Linnainmaa (Korpikodinkatu 3)\nWHEN: Wednesday\, March 25\, from 12:00 PM to 2:00 PM (please arrive on time!)\nPRICE 5€ (includes balls and a rental racket)\nTICKETS: Available on Kide.app on Wednesday\, March 18\, at 12:00 PM \nWelcome to Boomi’s King of the Court\, a casual and beginner-friendly padel event! \nWe will be playing traditional “King of the Court” style games\, where pairs change after every match—so you don’t need your own partner to join. This is a fantastic opportunity to meet new people and enjoy the game in a laid-back atmosphere. The event is suitable for players of all levels\, and no previous padel experience is required. Rackets and balls are available for loan at the center. \nWhy join? \n🔥 Relaxed games and great vibes \n🤝 Meet new people and find future playing partners \n🎾 Suitable for everyone\, regardless of skill level \n🏆 Small prizes for the winners
URL:https://boomi.fi/en/tapahtuma/boomis-padel-games/
LOCATION:Padel Tampere\, Hervanta\, Väkipyöränkatu 8\, Tampere\, 33720\, Finland
ATTACH;FMTTYPE=image/jpeg:https://boomi.fi/wp-content/uploads/2026/03/Boomin-kunkkupelit-x-Padel-Tampere-3-1-scaled.jpg
END:VEVENT
END:VCALENDAR