BEGIN:VCALENDAR
VERSION:2.0
PRODID:-//Boomi ry - ECPv6.15.20//NONSGML v1.0//EN
CALSCALE:GREGORIAN
METHOD:PUBLISH
X-WR-CALNAME:Boomi ry
X-ORIGINAL-URL:https://boomi.fi
X-WR-CALDESC:Events for Boomi ry
REFRESH-INTERVAL;VALUE=DURATION:PT1H
X-Robots-Tag:noindex
X-PUBLISHED-TTL:PT1H
BEGIN:VTIMEZONE
TZID:Europe/Helsinki
BEGIN:DAYLIGHT
TZOFFSETFROM:+0200
TZOFFSETTO:+0300
TZNAME:EEST
DTSTART:20250330T010000
END:DAYLIGHT
BEGIN:STANDARD
TZOFFSETFROM:+0300
TZOFFSETTO:+0200
TZNAME:EET
DTSTART:20251026T010000
END:STANDARD
BEGIN:DAYLIGHT
TZOFFSETFROM:+0200
TZOFFSETTO:+0300
TZNAME:EEST
DTSTART:20260329T010000
END:DAYLIGHT
BEGIN:STANDARD
TZOFFSETFROM:+0300
TZOFFSETTO:+0200
TZNAME:EET
DTSTART:20261025T010000
END:STANDARD
BEGIN:DAYLIGHT
TZOFFSETFROM:+0200
TZOFFSETTO:+0300
TZNAME:EEST
DTSTART:20270328T010000
END:DAYLIGHT
BEGIN:STANDARD
TZOFFSETFROM:+0300
TZOFFSETTO:+0200
TZNAME:EET
DTSTART:20271031T010000
END:STANDARD
END:VTIMEZONE
BEGIN:VEVENT
DTSTART;TZID=Europe/Helsinki:20260325T170000
DTEND;TZID=Europe/Helsinki:20260325T190000
DTSTAMP:20260423T134135
CREATED:20260316T082828Z
LAST-MODIFIED:20260316T082828Z
UID:15629-1774458000-1774465200@boomi.fi
SUMMARY:Masters' Coffee
DESCRIPTION:This event is held in Finnish. \nHi Master’s student\, have you ever found yourself wondering about employment after graduation or how to actually get your career started? Don’t worry\, you’re not the only one thinking about these things. \nIf you’re interested in hearing more about how we at Suomen Ekonomit support students who are close to graduating and recent graduates\, come and join us for a coffee and a chat at Boomilaakso on Wednesday\, March 25 at 5 PM. In addition to Kylli\, Emilia Hoikkaniemi from Suomen Ekonomit will be there telling more of these topics. There will be coffee and snacks. \nThe event is primarily aimed at Masters’ students\, but if these topics interest you\, students from earlier years are also warmly welcome 💙
URL:https://boomi.fi/en/tapahtuma/masters-coffee/
LOCATION:Boomilaakso\, Pinninkatu 57\, Tampere\, 33100\, Finland
CATEGORIES:Asia
ATTACH;FMTTYPE=image/png:https://boomi.fi/wp-content/uploads/2026/03/61.png
END:VEVENT
END:VCALENDAR