BEGIN:VCALENDAR
VERSION:2.0
PRODID:-//Boomi ry - ECPv6.15.20//NONSGML v1.0//EN
CALSCALE:GREGORIAN
METHOD:PUBLISH
X-ORIGINAL-URL:https://boomi.fi
X-WR-CALDESC:Events for Boomi ry
REFRESH-INTERVAL;VALUE=DURATION:PT1H
X-Robots-Tag:noindex
X-PUBLISHED-TTL:PT1H
BEGIN:VTIMEZONE
TZID:Europe/Helsinki
BEGIN:DAYLIGHT
TZOFFSETFROM:+0200
TZOFFSETTO:+0300
TZNAME:EEST
DTSTART:20250330T010000
END:DAYLIGHT
BEGIN:STANDARD
TZOFFSETFROM:+0300
TZOFFSETTO:+0200
TZNAME:EET
DTSTART:20251026T010000
END:STANDARD
BEGIN:DAYLIGHT
TZOFFSETFROM:+0200
TZOFFSETTO:+0300
TZNAME:EEST
DTSTART:20260329T010000
END:DAYLIGHT
BEGIN:STANDARD
TZOFFSETFROM:+0300
TZOFFSETTO:+0200
TZNAME:EET
DTSTART:20261025T010000
END:STANDARD
BEGIN:DAYLIGHT
TZOFFSETFROM:+0200
TZOFFSETTO:+0300
TZNAME:EEST
DTSTART:20270328T010000
END:DAYLIGHT
BEGIN:STANDARD
TZOFFSETFROM:+0300
TZOFFSETTO:+0200
TZNAME:EET
DTSTART:20271031T010000
END:STANDARD
END:VTIMEZONE
BEGIN:VEVENT
DTSTART;TZID=Europe/Helsinki:20260430T120000
DTEND;TZID=Europe/Helsinki:20260430T160000
DTSTAMP:20260423T120126
CREATED:20260323T181939Z
LAST-MODIFIED:20260323T181939Z
UID:15776-1777550400-1777564800@boomi.fi
SUMMARY:Back to the Roots – May Day Brunch
DESCRIPTION:WHAT: Back to the Roots – May Day BrunchWHERE: Klubi 57WHEN: April 30th\, 12–16WHY: Nostalgia + pre-drinks with bubbly before Koskenranta\, hello?HOW TO JOIN: Included in the Vappupass \nDo you remember what a freshly fried doughnut at your grandma’s tasted like? Or that first glass of homemade sima\, with raisins dancing at the bottom? \nWe’re going back to our roots. The menu features dishes that honor the land beneath our feet and the childhood memories we carry in our hearts. We’ve taken a peek into old recipe books and drawn inspiration from nature coming back to life. \nLet’s keep the event safe for everyone and free from harassment. However\, if you encounter inappropriate behavior\, you can contact Boomi’s harassment support staff. If you wish\, you can also contact TREY’s harassment contact persons (harassment@trey.fi).  \nIf you have any restrictions that may affect your participation in the event\, you can contact the event organizer. During the event\, you can reach out to Boomi’s harassment support persons or the event safety personnel regarding any special needs\, such as sensory sensitivities or the need for a quiet space. Boomi’s harassment contact persons for the event will be announced in Boomi’s Telegram channel before the event. You can recognize them in the event from the harassment contact person shirts.
URL:https://boomi.fi/en/tapahtuma/back-to-the-roots-may-day-brunch/
LOCATION:Boomilaakso\, Pinninkatu 57\, Tampere\, 33100\, Finland
ATTACH;FMTTYPE=image/png:https://boomi.fi/wp-content/uploads/2026/03/rottis-4.png
ORGANIZER;CN="Boomi ry":MAILTO:hallitus@boomi.fi
END:VEVENT
BEGIN:VEVENT
DTSTART;TZID=Europe/Helsinki:20260430T163000
DTEND;TZID=Europe/Helsinki:20260430T190000
DTSTAMP:20260423T120126
CREATED:20260323T151340Z
LAST-MODIFIED:20260323T151340Z
UID:15756-1777566600-1777575600@boomi.fi
SUMMARY:BARS Natural Wine Tasting feat. DJ Syrjähyppy 
DESCRIPTION:WHAT: BARS Natural Wine Tasting feat. DJ Syrjähyppy\nWHERE: Klubi 57\nWHEN: April 30 at 16:45 (doors 16:15)\nWHY: Because natural wine tastes great!\nHOW: Buy your ticket on Kide.app on April 8 at 12:00\nPRICE: 12 € \nNote: The event will be held in Finnish. 🍷 \nThe fries and nuggets at the Rottis Vappu brunch might leave a Boomi student a little thirsty\, but luckily April 30 marks the debut of Boomi’s newest club — the Boomi Academic Temperance Society — and it certainly won’t leave anyone thirsty! \nVappu Eve will be crowned with a natural wine tasting hosted by Boomi’s very own\, almost Kallio-level\, DJ Syrjähyppy! During the tasting we’ll explore what natural wine actually is\, how round it tastes\, and what kind of mouthfeel it offers. Natural wines also provide an excellent start to Vappu Eve celebrations — these things can hit surprisingly hard! \nSo don’t sit around wondering if you’ll get FOMO — grab your tickets on Kide.app on April 8 at 12:00! See you at Klubi57 😉
URL:https://boomi.fi/en/tapahtuma/bars-natural-wine-tasting-feat-dj-syrjahyppy/
LOCATION:Klubi 57 (en)\, Pinninkatu 57\, Tampere\, 33100\, Finland
ATTACH;FMTTYPE=image/png:https://boomi.fi/wp-content/uploads/2026/03/Boomin-Akateeminen-Raittiusseura-960-x-540-px.png
END:VEVENT
END:VCALENDAR