BEGIN:VCALENDAR
VERSION:2.0
PRODID:-//Boomi ry - ECPv6.15.20//NONSGML v1.0//EN
CALSCALE:GREGORIAN
METHOD:PUBLISH
X-ORIGINAL-URL:https://boomi.fi
X-WR-CALDESC:Events for Boomi ry
REFRESH-INTERVAL;VALUE=DURATION:PT1H
X-Robots-Tag:noindex
X-PUBLISHED-TTL:PT1H
BEGIN:VTIMEZONE
TZID:Europe/Helsinki
BEGIN:DAYLIGHT
TZOFFSETFROM:+0200
TZOFFSETTO:+0300
TZNAME:EEST
DTSTART:20240331T010000
END:DAYLIGHT
BEGIN:STANDARD
TZOFFSETFROM:+0300
TZOFFSETTO:+0200
TZNAME:EET
DTSTART:20241027T010000
END:STANDARD
BEGIN:DAYLIGHT
TZOFFSETFROM:+0200
TZOFFSETTO:+0300
TZNAME:EEST
DTSTART:20250330T010000
END:DAYLIGHT
BEGIN:STANDARD
TZOFFSETFROM:+0300
TZOFFSETTO:+0200
TZNAME:EET
DTSTART:20251026T010000
END:STANDARD
BEGIN:DAYLIGHT
TZOFFSETFROM:+0200
TZOFFSETTO:+0300
TZNAME:EEST
DTSTART:20260329T010000
END:DAYLIGHT
BEGIN:STANDARD
TZOFFSETFROM:+0300
TZOFFSETTO:+0200
TZNAME:EET
DTSTART:20261025T010000
END:STANDARD
END:VTIMEZONE
BEGIN:VEVENT
DTSTART;TZID=Europe/Helsinki:20250420T160000
DTEND;TZID=Europe/Helsinki:20250420T233000
DTSTAMP:20260419T180304
CREATED:20250319T170703Z
LAST-MODIFIED:20250319T170703Z
UID:13153-1745164800-1745191800@boomi.fi
SUMMARY:Hervanta Day – Sounds of Hervanta
DESCRIPTION:WHAT: Teekkari sauna\, Hervanta game\, and sausages\nWHERE: Hervanta Campus\nWHEN: April 20\, around 4 PM\nWHY: Because everyone should visit Hervanta at least once!\nHOW TO JOIN: The event is part of Boomi’s Vappu Pass \nWhat’s new in Hervanta? Does the music at Teekkari sauna sound different than at Pinninkatu? What could be Indecs’ favorite song? It’s time for Boomarit to explore the wonders of Hervanta again at Hervanta Day! Who knows\, maybe the song “Sinisydän” by Isorotta will win over Indecs’ hearts too. One thing’s for sure: the soundtrack of the Hervanta Game is something special. Hop on tram number 3 and head toward Hervanta campus\, where you’ll hear Teekkari’s laughing and sausages sizzling.
URL:https://boomi.fi/en/tapahtuma/hervanta-day-sounds-of-hervanta/
LOCATION:Teekkarisauna
ATTACH;FMTTYPE=image/png:https://boomi.fi/wp-content/uploads/2025/03/HP-1.png
END:VEVENT
BEGIN:VEVENT
DTSTART;TZID=Europe/Helsinki:20250421T140000
DTEND;TZID=Europe/Helsinki:20250421T220000
DTSTAMP:20260419T180304
CREATED:20250319T171050Z
LAST-MODIFIED:20250319T171050Z
UID:13155-1745244000-1745272800@boomi.fi
SUMMARY:STAABI VS. BOOMI Baseball match + baseball soup
DESCRIPTION:WHAT? STAABI VS. BOOMI Baseball match + baseball soup \nWHERE? Kaupin pesäpallostadion \nWHEN? 21.4. at 2pm \nTO WHOM? All Staabi and Boomi members \nWHY? Because it’s time to decide the Wappu baseball championship COST? Nothing \nWHAT TO WEAR? Overalls for the audience\, sportswear for the players! \nThe most legendary event of Wappu is here again\, when Staabi meets Boom in a baseball match on 21 April! Come and watch the big WAPPU thriller as Tampere’s most prominent student organisations battle it out to see who will be crowned baseball champion! In recent years\, these games have never lacked atmosphere\, so let’s continue the tradition! The evening will be crowned with a baseball soup at Klubi 57\, where the results of the match will be settled in the BoomSki-organised after-match! Come and spend the evening on Klubi 57’s dance floor\, sauna and enjoy the shots and punch on offer. So see you on Monday 21.4.! The event patch will be handed out at Klubi 57.
URL:https://boomi.fi/en/tapahtuma/staabi-vs-boomi-baseball-match-baseball-soup/
LOCATION:Kaupin pesäpallostadion
ATTACH;FMTTYPE=image/png:https://boomi.fi/wp-content/uploads/2025/03/pesiskeitto-1.png
END:VEVENT
BEGIN:VEVENT
DTSTART;TZID=Europe/Helsinki:20250422T110000
DTEND;TZID=Europe/Helsinki:20250422T170000
DTSTAMP:20260419T180304
CREATED:20250319T171533Z
LAST-MODIFIED:20250319T171533Z
UID:13157-1745319600-1745341200@boomi.fi
SUMMARY:The Greatest Country Duo - Allianssisillis
DESCRIPTION:WHERE: Location X \nWHEN: April 22\, 2024 Buses depart from Tampere Hall at 11.00 \nWHY: Because alliance friends are the best company\, and a duet needs two singers! \nHOW TO JOIN: Ticket sales on Kide.app April 1st at 10am and at Bola April 2nd at 10am \nCOST: 19€ \nDRESS CODE: Country + Overalls \nPack your banjo and cowboy hat\, grab the bull by the horns\, and head toward the Wild West! Get ready to enjoy the greatest country hits and form the wildest alliance duos. Find yourself a new amigo at the sillis and dance together to Old Town Road! \nExpect delicious food and cowboy-worthy challenges\, where the toughest in town will be crowned accordingly. A wild western adventure awaits as Boomi and Pörssi come together for traditional sillis activities. So don’t walk—gallop your way over and let country music sweep you off your feet! 🤠🎶 \n\nLet’s keep Boomi’s Vappu safe and free from harassment for everyone. Boomi’s safer space policy will be followed throughout Vappu. Boomin has a zero-tolerance policy for harassment and inappropriate behavior. However\, if you encounter inappropriate behavior\, you can contact Boomi’s harassment support persons. Contact information for Boomi’s harassment support persons can be found here. Alternatively\, you can contact Trey’s harassment contact persons at harassment@trey.fi. If necessary\, the event organizer may remove a person behaving disruptively from the event.
URL:https://boomi.fi/en/tapahtuma/the-greatest-country-duo-allianssisillis/
ATTACH;FMTTYPE=image/png:https://boomi.fi/wp-content/uploads/2025/03/Allianssisillis-banneri-1.png
END:VEVENT
BEGIN:VEVENT
DTSTART;TZID=Europe/Helsinki:20250424T170000
DTEND;TZID=Europe/Helsinki:20250424T220000
DTSTAMP:20260419T180304
CREATED:20250319T172131Z
LAST-MODIFIED:20250324T121634Z
UID:13159-1745514000-1745532000@boomi.fi
SUMMARY:Diskonttaus’s Discolympics
DESCRIPTION:This Event Is Not Included in the Vappupass \nThere they come — our blue-overall-wearing contestant approaches the final turn. Their steps are shaky; clearly\, some liquid courage was consumed even before the start. Just before the finish line\, our hero falls flat on their face. Even Lasse Virén’s legendary comeback pales in comparison\, as our athlete doesn’t rise… but CRAWLS across the finish line. What a performance! \nWHAT: DiscOlympics \nWHEN: April 24th \nWHERE: Sorsapuisto Park at 17:00 \nHOW TO JOIN: Tickets on Kide.app\, released March 30th at 14:00 \nPRICE: Team ticket €25 (for 5–6 people)\, afterparty tickets sold separately for €7 \nWHY: Because wappu never stops\, etc. \nDear friends\, Let us proudly present: the DiscOlympics! In these Olympics\, WADA won’t be checking anyone — all kinds of “performance enhancers” are allowed. So\, gather your team of 5–6 people\, create a team outfit\, train mercilessly\, and go for the win! Prizes await both the winning team and the team with the best outfit — and they’re absolutely next level. The evening continues with VappuKolmiot afterparty! \nYour team ticket includes: Entry to the Olympics and overall patch for each participant Note: Team tickets do not include entry to the afterparty — those are sold separately. Team outfits are highly encouraged and could win you amazing rewards (cash). \nLet’s make this event safe and inclusive for everyone. Boomi has zero tolerance for harassment or inappropriate behavior. If you experience or witness any such behavior\, please contact Boomi’s harassment support persons. Contact info: https://boomi.fi/opiskelu/hairinta You can also reach out to TREY’s harassment contact at hairinta@trey.fi. Event organizers reserve the right to remove individuals behaving inappropriately.
URL:https://boomi.fi/en/tapahtuma/diskonttauss-discolympics/
ATTACH;FMTTYPE=image/png:https://boomi.fi/wp-content/uploads/2025/03/diskolympialaiset-2.png
END:VEVENT
BEGIN:VEVENT
DTSTART;TZID=Europe/Helsinki:20250425T173000
DTEND;TZID=Europe/Helsinki:20250425T230000
DTSTAMP:20260419T180304
CREATED:20250319T172952Z
LAST-MODIFIED:20250319T172952Z
UID:13162-1745602200-1745622000@boomi.fi
SUMMARY:Bomorrowland – Vappu Sitz party
DESCRIPTION:WHERE: Messukylä Workers’ Hall\, Messukylänkatu 47\nWHEN: April 25\, doors at 5:30 PM\, event starts at 6 PM\nWHY: Because May Day sitsit are the wildest party of the season!\nHOW TO JOIN: Not included in Boomi’s May Day Pass. Tickets via Kide.App on April 2 at 10 AM and at Bola on April 3 at 10 AM.\nAFTER-PARTY: Location X\nDRESS CODE: Festival + Overalls \nFestival season starts here! The bass is booming as May Day’s most anticipated event combines with the vibes of Europe’s biggest festivals. Instead of Belgium\, enjoy electronic music and magical decorations at a party with no bad weather or bouncers checking your hidden flasks. Dress up in glitter\, scale the fences shamelessly\, and prepare for a spectacle you’ll never forget—even if you lose your memory afterward!\nGrab your one-day ticket and experience everything from warm-up acts to the main headliner. These are the most epic sitsit of May Day—an adventure in a magical world like no other. You don’t want to miss this! \nLet’s keep this event safe and harassment-free! Boomi has zero tolerance for inappropriate behavior. Details at Boomi’s harassment page.
URL:https://boomi.fi/en/tapahtuma/bomorrowland-vappu-sitz-party/
LOCATION:Messukylän työväentalo\, Messukylänkatu 47\, Finland
ATTACH;FMTTYPE=image/png:https://boomi.fi/wp-content/uploads/2025/03/Bomorrowland-1-2.png
END:VEVENT
BEGIN:VEVENT
DTSTART;TZID=Europe/Helsinki:20250426T120000
DTEND;TZID=Europe/Helsinki:20250426T160000
DTSTAMP:20260419T180304
CREATED:20250319T173400Z
LAST-MODIFIED:20250319T173400Z
UID:13164-1745668800-1745683200@boomi.fi
SUMMARY:C'est la Vappubrunssi
DESCRIPTION:WHERE: Klubi57 and Neukkari\nWHEN: April 26\, 12 PM–4 PM\nWHY: Because a relaxing brunch is the perfect cure after sitsit\nHOW TO JOIN: Included in Boomi’s May Day Pass \nBomorrowland is over\, but the party spirit still lingers. The journey isn’t over yet! Recharge with refreshing mimosas and a cozy brunch with French classics. \nEnjoy French breakfast favorites\, deep-fried classics\, and fresh veggies. Special diets are of course considered. Take this moment to relax\, reflect on the school year\, and get ready for the final May Day push!\nAttendance will be staggered\, more info later. \nThe event is part of Boomi’s Vappu Pass
URL:https://boomi.fi/en/tapahtuma/cest-la-vappubrunssi/
LOCATION:Klubi 57\, Pinninkatu 57\, Tampere\, 33100\, Finland
ATTACH;FMTTYPE=image/png:https://boomi.fi/wp-content/uploads/2025/03/brunssi-2.png
END:VEVENT
BEGIN:VEVENT
DTSTART;VALUE=DATE:20250428
DTEND;VALUE=DATE:20250430
DTSTAMP:20260419T180304
CREATED:20250320T114357Z
LAST-MODIFIED:20250320T114357Z
UID:13190-1745812800-1745899199@boomi.fi
SUMMARY:Särkän Märkä
DESCRIPTION:The wildest student event of Vappu\, Särkän Märkä\, takes place on Monday\, April 28\, 2025! This year marks the 10th anniversary\, so we’re celebrating bigger than ever! \nGet ready for thrilling amusement rides\, diverse side activities\, sponsor booths\, and an epic stage program featuring a special surprise artist! After the amusement park fun\, buses will take participants to afterparties in Tampere’s top nightclubs\, where amazing artists will keep the party going. During the event\, Särkänniemi will be a licensed area open exclusively to students. \nFollow us on Instagram @sarkanmarka to stay updated on important info\, giveaways\, and exciting surprises! See you at Särkänniemi!
URL:https://boomi.fi/en/tapahtuma/sarkan-marka/
ATTACH;FMTTYPE=image/png:https://boomi.fi/wp-content/uploads/2025/03/sunnuntai-9-1.png
END:VEVENT
BEGIN:VEVENT
DTSTART;TZID=Europe/Helsinki:20250430T120000
DTEND;TZID=Europe/Helsinki:20250430T160000
DTSTAMP:20260419T180304
CREATED:20250319T173835Z
LAST-MODIFIED:20250319T173835Z
UID:13166-1746014400-1746028800@boomi.fi
SUMMARY:Eternal May Day – May Day Sillis
DESCRIPTION:WHERE: Klubi57 & Sauna57\nWHEN: Wednesday\, April 30\, 12 PM–4 PM\nWHY: JVG + Sauna + Hot Tub = TARKENEE!\nHOW TO JOIN: Included in Boomi’s May Day Pass \n🎶 “And the journey continues… from Särmä to Bola\, from Bola to Teekkari Kaste…” 🎶\nIs May Day starting to feel a little too eternal? Got speed blindness? Looking for some legendary vibes? Forget the morning shakes and come share your May Day stories at Klubi57. Sauna’s hot\, the hot tub’s ready\, and Salmari is served from a pint glass (4cl). Enjoy the golden era of Finnish rap with tasty treats. Everyone knows the JVG lyrics\, no matter the state of mind! Expect fun quizzes with awesome JVG merch prizes. Maybe this is it?\nLet’s keep the event safe and harassment-free! Boomi has zero tolerance for inappropriate behavior. Details at Boomi’s harassment page.
URL:https://boomi.fi/en/tapahtuma/eternal-may-day-may-day-sillis/
LOCATION:Klubi 57\, Pinninkatu 57\, Tampere\, 33100\, Finland
ATTACH;FMTTYPE=image/jpeg:https://boomi.fi/wp-content/uploads/2025/03/ikuinen-2-scaled.jpg
END:VEVENT
END:VCALENDAR