BEGIN:VCALENDAR
VERSION:2.0
PRODID:-//Boomi ry - ECPv6.15.20//NONSGML v1.0//EN
CALSCALE:GREGORIAN
METHOD:PUBLISH
X-WR-CALNAME:Boomi ry
X-ORIGINAL-URL:https://boomi.fi
X-WR-CALDESC:Events for Boomi ry
REFRESH-INTERVAL;VALUE=DURATION:PT1H
X-Robots-Tag:noindex
X-PUBLISHED-TTL:PT1H
BEGIN:VTIMEZONE
TZID:Europe/Helsinki
BEGIN:DAYLIGHT
TZOFFSETFROM:+0200
TZOFFSETTO:+0300
TZNAME:EEST
DTSTART:20240331T010000
END:DAYLIGHT
BEGIN:STANDARD
TZOFFSETFROM:+0300
TZOFFSETTO:+0200
TZNAME:EET
DTSTART:20241027T010000
END:STANDARD
BEGIN:DAYLIGHT
TZOFFSETFROM:+0200
TZOFFSETTO:+0300
TZNAME:EEST
DTSTART:20250330T010000
END:DAYLIGHT
BEGIN:STANDARD
TZOFFSETFROM:+0300
TZOFFSETTO:+0200
TZNAME:EET
DTSTART:20251026T010000
END:STANDARD
BEGIN:DAYLIGHT
TZOFFSETFROM:+0200
TZOFFSETTO:+0300
TZNAME:EEST
DTSTART:20260329T010000
END:DAYLIGHT
BEGIN:STANDARD
TZOFFSETFROM:+0300
TZOFFSETTO:+0200
TZNAME:EET
DTSTART:20261025T010000
END:STANDARD
END:VTIMEZONE
BEGIN:VEVENT
DTSTART;VALUE=DATE:20250501
DTEND;VALUE=DATE:20250503
DTSTAMP:20260419T195635
CREATED:20250319T174057Z
LAST-MODIFIED:20250319T174057Z
UID:13168-1746072000-1746158399@boomi.fi
SUMMARY:The Grand Finale – Vappu Picnic
DESCRIPTION:WHAT: Hanging out\, good music\, and delicious May Day treats\nWHERE: Koskipuisto\nWHEN: May 1st\nWHY: Because this Vappu deserves a proper ending. And HAALARIBILEET \nAll good things come to an end\, including our music-filled Vappu celebrations.\nIt’s time to finish May Day the traditional way with a picnic! Put on your white student caps and gather one last time to enjoy the tunes and vibes of May Day. Expect the best energy\, donuts\, and sima. So\, grab your white cap and join us!
URL:https://boomi.fi/en/tapahtuma/the-grand-finale-vappu-picnic/
ATTACH;FMTTYPE=image/jpeg:https://boomi.fi/wp-content/uploads/2025/03/vappupiknik-3-scaled.jpg
END:VEVENT
BEGIN:VEVENT
DTSTART;TZID=Europe/Helsinki:20250501T180000
DTEND;TZID=Europe/Helsinki:20250501T230000
DTSTAMP:20260419T195635
CREATED:20250411T114928Z
LAST-MODIFIED:20250411T114928Z
UID:13323-1746122400-1746140400@boomi.fi
SUMMARY:Boomi Sailing Club's Seasickness - sits party
DESCRIPTION:WHAT: Boomi Sailing Club’s Seasickness- sits party\nWHERE: @ Klubi 57\, Pinninkatu 57\nWHEN: Thursday 1.5. at 6 pm\, doors open at 5:30 pm\nHOW MUCH IT COSTS: Sits ticket 12 €\, Sits + May’s Haalaribileet 17€\nTICKET SALE: At Kide.app 14.4. at noon. Ticket sale link: https://kide.app/events/53be5fe6-dc57-437e-8eae-6d35803fa630\nDRESSCODE: Vappu and/or sea atmosphere + overalls\nWHAT TO BRING WITH YOU: Vappu-atmosphere\, if you’re thirsty\, bring your own bottles \nPlease note that the event is fully held in Finnish. \nDid you really think this kind of chaos was over? You were wrong—because as everyone knows\, Vappu never truly ends. And if it does\, it should go out with a bang! This year\, Sailing Club’s end-of-the-academic-year sits party will be bigger than ever—after all\, who wouldn’t want to attend a sits party on Vappu Day? \nJust like on Rexcu\, at this sits party you can blame any swaying and stumbling on the boat—not on a boomari worn out by Vappu festivities. The wildest parties of Vappu and a afternoon spent at Koskenranta might leave even the most seasoned reveller a little worse for wear\, but on the waters of Klubi 57\, a slightly greenish hue can easily be blamed on seasickness. \nAfter spending the day at a Vappu picnic at Koskenranta watching the engineering students take their dip\, you’re welcome to join us once more to celebrate Vappu at our beloved Klubi 57 in a nautical atmosphere. And the night doesn’t end there—afterparty continues at the May’s Haalaribileet\, where the final blowout of the academic year will feature live music. \nThere are two ticket options available: sits party ticket for €12 and a combo ticket for sits party + Haalaribileet for €17. So grab your sima and join us for one last round of sits party this academic year! \nThe event will have harassment support staff present at the event\, whose identities will be announced before the event. Let’s keep the event safe for everyone and free from harassment. Boomi has zero tolerance for harassment and inappropriate behavior. However\, if you encounter inappropriate behavior\, you can contact Boomi’s harassment support staff. You can contact Boomi’s harassment support staff by email hairinta@boomi.fi. If you wish\, you can also contact TREY’s harassment contact persons harassment@trey.fi. By attending the event\, you also agree to comply with Boomi’s Safer Space Policy. The event organiser has the right to remove a disruptive person from the event.
URL:https://boomi.fi/en/tapahtuma/boomi-sailing-clubs-seasickness-sits-party/
LOCATION:Klubi 57\, Pinninkatu 57\, Tampere\, 33100\, Finland
ATTACH;FMTTYPE=image/png:https://boomi.fi/wp-content/uploads/2025/04/Boomi-sailing-club-1920-x-1080-px.png
END:VEVENT
BEGIN:VEVENT
DTSTART;TZID=Europe/Helsinki:20250501T220000
DTEND;TZID=Europe/Helsinki:20250502T040000
DTSTAMP:20260419T195635
CREATED:20250411T115407Z
LAST-MODIFIED:20250411T115407Z
UID:13329-1746136800-1746158400@boomi.fi
SUMMARY:May’s Poikkitieteelliset Haalaribileet – NEVER STOP THE VAPPU MADNESS
DESCRIPTION:WHERE: Viihdemaailma Ilona (Verkatehtaankatu 3) \nWHEN: Thursday 1.5.2025 from 22:00 to 04:00 \nHOW: Presale ticket €5\, at the door €6. Presale ticket holders will be prioritized at the door of Ilona until 23:00\, after which tickets will be sold for €5 or earlier if the presale queue ends. \nPresale tickets available via Kide.app on Tuesday 15.4.2025 at 12:00 \nNEVER STOP THE VAPPU MADNESS \nThe Vappu festivities are starting to wear down the student crowd\, but it’s not time to slow down just yet. Put on your overalls\, throw some streamers around your neck\, grab a glass of bubbly – Vappu continues as long as we can dance! \nNEVER STOP THE VAPPU MADNESS crowns the vappu season by offering an iconic night full of party spirit\, student-priced drinks\, and a sparkling dance floor where Vappu won’t end before sunrise! The night at Ilona culminates when the amazing SPICY RED hits the stage to dance us into the Vappu finale. \nThe Vappu madness isn’t over – never stop the madness\, kohta vedetään taas! \nPlease note that Ilona’s doors open at 22:00
URL:https://boomi.fi/en/tapahtuma/mays-poikkitieteelliset-haalaribileet-never-stop-the-vappu-madness/
LOCATION:Viihdemaailma Ilona\, Verkatehtaankatu 3\, Tampere\, 33100\, Finland
ATTACH;FMTTYPE=image/jpeg:https://boomi.fi/wp-content/uploads/2025/04/poikkarit-madness-2025-1920x1080-1.jpg
END:VEVENT
END:VCALENDAR