BEGIN:VCALENDAR
VERSION:2.0
PRODID:-//Boomi ry - ECPv6.15.20//NONSGML v1.0//EN
CALSCALE:GREGORIAN
METHOD:PUBLISH
X-ORIGINAL-URL:https://boomi.fi
X-WR-CALDESC:Events for Boomi ry
REFRESH-INTERVAL;VALUE=DURATION:PT1H
X-Robots-Tag:noindex
X-PUBLISHED-TTL:PT1H
BEGIN:VTIMEZONE
TZID:Europe/Helsinki
BEGIN:DAYLIGHT
TZOFFSETFROM:+0200
TZOFFSETTO:+0300
TZNAME:EEST
DTSTART:20240331T010000
END:DAYLIGHT
BEGIN:STANDARD
TZOFFSETFROM:+0300
TZOFFSETTO:+0200
TZNAME:EET
DTSTART:20241027T010000
END:STANDARD
BEGIN:DAYLIGHT
TZOFFSETFROM:+0200
TZOFFSETTO:+0300
TZNAME:EEST
DTSTART:20250330T010000
END:DAYLIGHT
BEGIN:STANDARD
TZOFFSETFROM:+0300
TZOFFSETTO:+0200
TZNAME:EET
DTSTART:20251026T010000
END:STANDARD
BEGIN:DAYLIGHT
TZOFFSETFROM:+0200
TZOFFSETTO:+0300
TZNAME:EEST
DTSTART:20260329T010000
END:DAYLIGHT
BEGIN:STANDARD
TZOFFSETFROM:+0300
TZOFFSETTO:+0200
TZNAME:EET
DTSTART:20261025T010000
END:STANDARD
END:VTIMEZONE
BEGIN:VEVENT
DTSTART;TZID=Europe/Helsinki:20250703T170000
DTEND;TZID=Europe/Helsinki:20250703T170000
DTSTAMP:20260419T234059
CREATED:20250616T171955Z
LAST-MODIFIED:20250616T171955Z
UID:13509-1751562000-1751562000@boomi.fi
SUMMARY:Alumni and Master’s Afterwork in Helsinki
DESCRIPTION:WHERE: Allas Sea Pool\, Katajanokanlaituri 2a\, 00160 Helsinki\nWHEN: Thursday\, July 3 at 17:00\nFOR WHOM: All Boomi alumni and current members\nHOW TO JOIN: Register via this link by July 2: https://forms.office.com/e/dxmqVUKB08\nCOST: FREE \nEven though Tampere has a beautiful lake\, sometimes it’s nice to catch a glimpse of the sea. The second Boomi summer afterwork takes us to Helsinki\, where the Alumni and Master’s Afterwork invites us to enjoy the relaxing heat of the Allas Sea Pool saunas.\nOn Thursday\, July 3 starting at 5 PM\, we’ll unwind and enjoy the evening in great company — with both current students and Boomi alumni. \nAllas Sea Pool is located right by the sea in the heart of Helsinki (Katajanokanlaituri 2a\, 00160 Helsinki). Whether this is your excuse to make a day trip to the capital\, a chance to see who else has migrated to Helsinki for work\, or simply an opportunity to experience this fantastic seaside spot — we hope to see you there! \nEveryone is welcome to join the afterwork\, whether you plan to hit the sauna or not — but please remember to register. Registration is open until July 2 at 23:59 via this link:\nhttps://forms.office.com/e/dxmqVUKB08 \nLet’s make the event safe and welcoming for everyone. Boomi has zero tolerance for harassment or inappropriate behavior. If you encounter any issues\, please contact Boomi’s harassment support persons. Contact details can be found at: https://boomi.fi/opiskelu/hairinta/. You can also contact TREY’s harassment contact persons at hairinta@trey.fi.\nBy attending the event\, you also agree to follow Boomi’s Safer Space Principles: https://boomi.fi/turvallisemmantilan-periaatteet/.\nThe event organizers reserve the right to remove anyone behaving inappropriately.
URL:https://boomi.fi/en/tapahtuma/alumni-and-masters-afterwork-in-helsinki/
ATTACH;FMTTYPE=image/jpeg:https://boomi.fi/wp-content/uploads/2025/06/1.jpg
END:VEVENT
BEGIN:VEVENT
DTSTART;TZID=Europe/Helsinki:20250725T180000
DTEND;TZID=Europe/Helsinki:20250725T233000
DTSTAMP:20260419T234059
CREATED:20250630T131253Z
LAST-MODIFIED:20250630T131253Z
UID:13523-1753466400-1753486200@boomi.fi
SUMMARY:Boomi's Traditional Summer Party
DESCRIPTION:WHERE: Klubi 57\, Pinninkatu 57\nWHEN: Friday\, July 25th at 18:00\nWHY: Who wouldn’t want to see their Boomi friends during the summer too?\nHOW MUCH: Absolutely nothing\, of course\nDRESS CODE: Summer vibes\nThe highlight of the summer is approaching once again\, as the (hopefully) hot weather brings with it Boomi’s Traditional Summer Party!  Take a break from everyday life and head to Klubi 57 to catch up with fellow Boomari friends on Friday\, July 25th \nThe party kicks off at 18:00\, but feel free to drop by whenever suits you best! You can look forward to good company\, grilled food\, cold drinks\, and of course\, some fun activities Sauna 57 and the hot tub will stay warm late into the night\, so don’t forget to bring your swimsuit and a towel! \nAll boomaris are warmly welcome – from alumni to current students\, and of course\, we won’t forget those who just got accepted! So invite your friends who are about to start their journey at Boomi. See you in July!
URL:https://boomi.fi/en/tapahtuma/boomis-traditional-summer-party/
LOCATION:Klubi 57\, Pinninkatu 57\, Tampere\, 33100\, Finland
ATTACH;FMTTYPE=image/jpeg:https://boomi.fi/wp-content/uploads/2025/06/kesabileet-banneri.jpg
ORGANIZER;CN="Boomi ry":MAILTO:hallitus@boomi.fi
END:VEVENT
END:VCALENDAR