BEGIN:VCALENDAR
VERSION:2.0
PRODID:-//Boomi ry - ECPv6.15.20//NONSGML v1.0//EN
CALSCALE:GREGORIAN
METHOD:PUBLISH
X-ORIGINAL-URL:https://boomi.fi
X-WR-CALDESC:Events for Boomi ry
REFRESH-INTERVAL;VALUE=DURATION:PT1H
X-Robots-Tag:noindex
X-PUBLISHED-TTL:PT1H
BEGIN:VTIMEZONE
TZID:Europe/Helsinki
BEGIN:DAYLIGHT
TZOFFSETFROM:+0200
TZOFFSETTO:+0300
TZNAME:EEST
DTSTART:20240331T010000
END:DAYLIGHT
BEGIN:STANDARD
TZOFFSETFROM:+0300
TZOFFSETTO:+0200
TZNAME:EET
DTSTART:20241027T010000
END:STANDARD
BEGIN:DAYLIGHT
TZOFFSETFROM:+0200
TZOFFSETTO:+0300
TZNAME:EEST
DTSTART:20250330T010000
END:DAYLIGHT
BEGIN:STANDARD
TZOFFSETFROM:+0300
TZOFFSETTO:+0200
TZNAME:EET
DTSTART:20251026T010000
END:STANDARD
BEGIN:DAYLIGHT
TZOFFSETFROM:+0200
TZOFFSETTO:+0300
TZNAME:EEST
DTSTART:20260329T010000
END:DAYLIGHT
BEGIN:STANDARD
TZOFFSETFROM:+0300
TZOFFSETTO:+0200
TZNAME:EET
DTSTART:20261025T010000
END:STANDARD
END:VTIMEZONE
BEGIN:VEVENT
DTSTART;VALUE=DATE:20250904
DTEND;VALUE=DATE:20250906
DTSTAMP:20260421T173154
CREATED:20250830T162012Z
LAST-MODIFIED:20250830T162012Z
UID:13970-1756958400-1757044799@boomi.fi
SUMMARY:September Poikkitieteelliset Haalaribileet – New Kids on the Block
DESCRIPTION:WHERE: Viihdemaailma Ilona (Verkatehtaankatu 3) & Fame Club (Satakunnankatu 18)\nWHEN: Thursday 4.9.2025 21:00–04:00\nHOW: Advance ticket €5\, at the door €6. Advance ticket holders have priority at the door until 23:00\, after which tickets will be sold for €6 or earlier if the queue for advance ticket holders ends. \nAdvance tickets available on Kide.app on Thursday 28.8.2025 at 12:00. \nNEW KIDS ON THE BLOCK \nHere we go again!  A new academic year and new tricks\, right? At the first Haalaribileet of the autumn\, the atmosphere will rise even higher as the new arrivals hit the block \nNEW KIDS ON THE BLOCK welcomes new freshmen and seasoned veterans back to their studies. Haalaribileet kicks off the autumn in full 90’s spirit\, this time at Ilona and Fame. Expect a full-on student party vibe\, student-priced drinks\, and an energy that will keep you going well into the night! \nPut on your overalls and add a touch of 90’s vibe to your top – colourful\, relaxed\, and something you can party in all night long. \nStart the autumn with your friends and show who’s the newest star on the block this year \nFollow Haalaribileet on Instagram to see what the whole overall crowd is talking about. You’ll find us under the name @haalaribileet!
URL:https://boomi.fi/en/tapahtuma/september-poikkitieteelliset-haalaribileet-new-kids-on-the-block/
LOCATION:Viihdemaailma Ilona\, Verkatehtaankatu 3\, Tampere\, 33100\, Finland
ATTACH;FMTTYPE=image/jpeg:https://boomi.fi/wp-content/uploads/2025/08/boom-new-kids-on-the-block-2025-some-1920x1080-1.jpg
END:VEVENT
BEGIN:VEVENT
DTSTART;TZID=Europe/Helsinki:20250908T180000
DTEND;TZID=Europe/Helsinki:20250908T230000
DTSTAMP:20260421T173154
CREATED:20250828T142019Z
LAST-MODIFIED:20250829T070723Z
UID:13938-1757354400-1757372400@boomi.fi
SUMMARY:Semester Opening – Beerpong Tournament
DESCRIPTION:WHAT: Semester Opening – Beerpong Tournament\nWHERE: At Klubi 57\, of course. Afterparty TBA\nWHEN: Monday\, September 8th\, starting at 6 PM\nHOW TO JOIN: Ticket sales on Kide.App on Wednesday\, September 3rd at 12 PM. Team ticket €6 (includes two people)\, spectator ticket €3 (includes one person).\nTicket sales link\nDRESS CODE: Overalls\, Smurfs can wear whatever they likeThe Smurfs have already started their academic year and study journey a few weeks ago\, and the older Boomers have also returned to the lecture halls. Now it’s time to celebrate the beginning of the new academic year together with both the Smurfs and the older Boomari’s! On top of that\, a bus full of Pörssi’s new freshmen will join us to celebrate the semester opening\, and we warmly welcome them with a beerpong tournament. PLEASE don’t leak a word of this to Jyväskylä\, so their freshman trip finale stays a surprise!!! \nThe tournament will be played in t eams of four\, with two Boomers and two Pörssi members per team. Boomari’s can join either as players or spectators. A player ticket costs €6 and includes entry for two players. A spectator ticket costs €3. There are 32 player tickets available. The ticket price includes some snacks and drinks; bring your own if you’re thirstier. \nTickets will be sold on Kide.App on Wednesday\, September 3rd at 12 PM. Please note that if you’re playing\, only one of the two players needs to buy the ticket. There is no waiting list for the event\, so if you can’t attend\, you are responsible for reselling your ticket. Also note: if you resell a player ticket\, the original buyer’s name will still appear on the match bracket.\nThe event is exclusively for members of Boomi and Pörssi\, so tickets may only be resold to another Boomi member. Tickets can be resold via Boomi’s official ticket exchange. \nLet’s make this a safe and harassment-free event for everyone. If you experience inappropriate behavior\, you can contact Boomi’s harassment support persons. Their contact info is available at: https://boomi.fi/opiskelu/hairinta/. You can also contact TREY’s harassment contact persons at hairinta@trey.fi if you wish.\nHarassment support persons can be recognized by their “security personnel” shirts.
URL:https://boomi.fi/en/tapahtuma/semester-opening-beerpong-tournament/
LOCATION:Klubi 57 (en)\, Pinninkatu 57\, Tampere\, 33100\, Finland
ATTACH;FMTTYPE=image/jpeg:https://boomi.fi/wp-content/uploads/2025/08/Lukuvuoden-avajaiset-Beerpong-turnaus.jpg
END:VEVENT
BEGIN:VEVENT
DTSTART;TZID=Europe/Helsinki:20250917T170000
DTEND;TZID=Europe/Helsinki:20250917T170000
DTSTAMP:20260421T173154
CREATED:20250915T060209Z
LAST-MODIFIED:20250915T060209Z
UID:14090-1758128400-1758128400@boomi.fi
SUMMARY:Kopo & Kylli Evening
DESCRIPTION:What on earth is Kopo? And what exactly does Kylli do again? How are students’ rights and interests protected? Do students perhaps have some responsibilities as well? These and many other questions will be answered at this fall’s very first Kopo & Kylli Evening. \nExpect relaxed conversations\, important information\, and the chance to ask any questions that have been on your mind. Join us to pick up useful tips and kick off the academic year feeling more prepared than ever! \nThere will also be delicious snacks\, so don’t forget to sign up here 💼✨ \nEVENT IS HELD IN FINNISH
URL:https://boomi.fi/en/tapahtuma/kopo-kylli-evening/
LOCATION:Klubi 57\, Pinninkatu 57\, Tampere\, 33100\, Finland
ATTACH;FMTTYPE=image/jpeg:https://boomi.fi/wp-content/uploads/2025/09/photo_5895736783457601640_y.jpg
END:VEVENT
BEGIN:VEVENT
DTSTART;TZID=Europe/Helsinki:20250919T190000
DTEND;TZID=Europe/Helsinki:20250919T233000
DTSTAMP:20260421T173154
CREATED:20250908T060442Z
LAST-MODIFIED:20250908T060442Z
UID:13994-1758308400-1758324600@boomi.fi
SUMMARY:Boomi Alumni Crayfish Party 2025
DESCRIPTION:WHAT: Boomi Alumni Crayfish Party 2025\nWHERE: Klubi 57\, Pinninkatu 57\, 33100 Tampere\nWHEN: Friday\, September 19th\, starting at 19:00\nCOST: 20 euros per person\nHOW TO JOIN: Sign up by purchasing a ticket via the Kide.app platform by September 18th. Ticket sales open on September 13st. \nThe end of September once again means it’s time to celebrate the highlight of the Boomi alumni year – the legendary Boomi Alumni Crayfish Party! \nThe crayfish party is the crown jewel of autumn’s alumni events\, but there’s always room for current boomarit (Boomi students) too! Whether you’re into singing\, crayfish\, or enjoying the company of both former and current Boomarit\, there’s something for everyone. You can expect delicious food\, a first-class atmosphere\, and the joyful harmony of group singing—accompanied by appropriate beverages\, of course. After this evening\, you’ll surely remember how to sing Helan Går and peel crayfish like a pro! \nTicket sales are initially open only to Boomi alumni until September 12th. After that\, remaining tickets will be available to all Boomarit. Around 55 tickets will be sold in total\, so there’s room for more than just alumni. The remaining tickets will be on sale to both alumni and students until September 18th at 23:55. The ticket link will be shared in Boomi’s Telegram channel\, so keep an eye on the Bileet & Juhlat channel and don’t miss out on one of the most exciting evenings of the year – the crown jewel of the Boomi alumni calendar! \nA crayfish party wouldn’t be complete without plenty of tasty crayfish\, but there will also be other food options that suit the theme\, along with a selection of drinks. For those who get especially thirsty\, we recommend bringing your own beverages to match your taste and needs. \nThe festivities will aim to begin shortly after 19:00\, so arriving a bit early is recommended. The doors to Klubi will open at 18:45. There is no official dress code\, but you can’t go wrong with smart casual attire. If you’d like\, feel free to wear something red to match the crayfish theme. There will be no pre-arranged seating\, so you’re free to choose who you celebrate with.
URL:https://boomi.fi/en/tapahtuma/boomi-alumni-crayfish-party-2025/
LOCATION:Klubi 57\, Pinninkatu 57\, Tampere\, 33100\, Finland
ATTACH;FMTTYPE=image/png:https://boomi.fi/wp-content/uploads/2025/09/BOOMIN.png
ORGANIZER;CN="Boomi ry":MAILTO:hallitus@boomi.fi
END:VEVENT
BEGIN:VEVENT
DTSTART;TZID=Europe/Helsinki:20250920T110000
DTEND;TZID=Europe/Helsinki:20250920T170000
DTSTAMP:20260421T173154
CREATED:20250908T081306Z
LAST-MODIFIED:20250908T084203Z
UID:14008-1758366000-1758387600@boomi.fi
SUMMARY:BSC Sailing Course
DESCRIPTION:WHAT: The best event of the autumn?? (BSC Sailing Course)WHEN: Sat 20.9\, 11:00–17:00WHERE: TaPS home harbor in NaistenlahtiHOW TO JOIN: Ticket on Kide.AppWHAT TO BRING: Weather-appropriate clothing and lots of good vibes! \nHoly mackerel! It’s almost time to set sail with Boomi Sailing Club and TaPS as the autumn sailing course approaches again 🌊⛵ \nWhat’s in store:📚 Theory session – Learn the secrets of sailing: everything from the parts of a boat to telling port from starboard.🏋️‍♀️ Practice station – Tie knots like a pro and challenge your fellow Boomers.⛵ Sailing – Put theory into practice as we head out on H-boats onto the waves of Lake Näsijärvi! \n💰 Price – €20👥 Max participants – 36 \nSign up via the Kide.app link and join this amazing water adventure! 🌊⛵💨 A tasty lunch is included in the price. \nEvent is held in Finnish
URL:https://boomi.fi/en/tapahtuma/bsc-sailing-course/
ATTACH;FMTTYPE=image/png:https://boomi.fi/wp-content/uploads/2025/09/purjehduskurssi.png
END:VEVENT
END:VCALENDAR