BEGIN:VCALENDAR
VERSION:2.0
PRODID:-//Boomi ry - ECPv6.15.20//NONSGML v1.0//EN
CALSCALE:GREGORIAN
METHOD:PUBLISH
X-ORIGINAL-URL:https://boomi.fi
X-WR-CALDESC:Tapahtumat Boomi ry
REFRESH-INTERVAL;VALUE=DURATION:PT1H
X-Robots-Tag:noindex
X-PUBLISHED-TTL:PT1H
BEGIN:VTIMEZONE
TZID:Europe/Helsinki
BEGIN:DAYLIGHT
TZOFFSETFROM:+0200
TZOFFSETTO:+0300
TZNAME:EEST
DTSTART:20240331T010000
END:DAYLIGHT
BEGIN:STANDARD
TZOFFSETFROM:+0300
TZOFFSETTO:+0200
TZNAME:EET
DTSTART:20241027T010000
END:STANDARD
BEGIN:DAYLIGHT
TZOFFSETFROM:+0200
TZOFFSETTO:+0300
TZNAME:EEST
DTSTART:20250330T010000
END:DAYLIGHT
BEGIN:STANDARD
TZOFFSETFROM:+0300
TZOFFSETTO:+0200
TZNAME:EET
DTSTART:20251026T010000
END:STANDARD
BEGIN:DAYLIGHT
TZOFFSETFROM:+0200
TZOFFSETTO:+0300
TZNAME:EEST
DTSTART:20260329T010000
END:DAYLIGHT
BEGIN:STANDARD
TZOFFSETFROM:+0300
TZOFFSETTO:+0200
TZNAME:EET
DTSTART:20261025T010000
END:STANDARD
END:VTIMEZONE
BEGIN:VEVENT
DTSTART;TZID=Europe/Helsinki:20250425T173000
DTEND;TZID=Europe/Helsinki:20250425T230000
DTSTAMP:20260419T195635
CREATED:20250319T105108Z
LAST-MODIFIED:20250325T135529Z
UID:13005-1745602200-1745622000@boomi.fi
SUMMARY:Bomorrowland -vappusitsit
DESCRIPTION:MISSÄ: Messukylän työväentalo\, Messukylänkatu 47 \nMILLOIN: 25.4. klo 18.00\, ovet 17.30 \nMIKSI: Koska vappusitsit on vapun railakkain tapahtuma! \nHINTA: 18€ \nMITEN MUKAAN: Tapahtuma ei kuulu Boomin vappupassiin. Lipunmyynti sitseille tapahtuu Kide.Appin kautta 2.4. klo 10 sekä Bolalla 3.4 klo 10. \nJATKOT:  Paikassa X \nDRESSCODE: Festarit + haalarit \nLipunmyynti: 1.4. klo 14. Linkki \n\nFestarikesän avaus on täällä! Bassot pauhaavat kun vapun odotetuin tapahtuma yhdistyy Euroopan suurimpien festareiden kanssa. Belgian sijasta voit nauttia elektronisesta musiikista ja taianomaisista koristeluista festareilla\, joita ei pilaa huono sää tai portsari\, joka kuitenkin löysi piilopullon rintsikoista. Verhoudu siis glitteriin\, kiipeä hävyttömästi turva-aitojen yli ja valmistaudu kokemaan spektaakkeli\, jota edes festareiden jälkeinen muistinmenetys ei pysty pyyhkimään. \nVarmista yhden päivän lippusi festareille ja koe koko tapahtuma aina alun lämppäreistä illan pääesiintyjiin asti. Valmistaudu vapun mahtipontisimpiin sitseihin ja lähde seikkailulle satumaiseen paikkaan\, kuin toisesta ulottuvuudesta. Tätä et halua missata! \nPidetään tapahtuma kaikille turvallisena ja häirinnästä vapaana. Boomilla on nollatoleranssi häirinnälle ja epäasialliselle kohtelulle. Jos kuitenkin kohtaat epäsopivaa käytöstä\, voit ottaa yhteyttä Boomin häirintätukihenkilöihin. Yhteystiedot Boomin häirintätukihenkilöille löytyvät osoitteesta https://boomi.fi/opiskelu/hairinta/. Halutessasi voit myös ottaa yhteyttä Trey:n häirintäyhdyshenkilöihin hairinta@trey.fi. Tapahtuman järjestäjä voi tarvittaessa poistaa häiritsevästi käyttäytyvän henkilön tapahtumasta. \nTapahtuma ei ole on esteetön. Tapahtumajärjestäjä kuitenkin pyrkii ottamaan mahdolliset esteettömyystekijät huomioon\, ja niihin liittyviä kysymyksiä voi osoittaa sähköpostitse tapahtumat@boomi.fi. \nTAPAHTUMA EI KUULU BOOMIN VAPPUPASSIIN
URL:https://boomi.fi/tapahtuma/bomorrowland-vappusitsit/
LOCATION:Messukylän työväentalo\, Messukylänkatu 47\, Finland
ATTACH;FMTTYPE=image/png:https://boomi.fi/wp-content/uploads/2025/03/Bomorrowland-1-2.png
END:VEVENT
END:VCALENDAR