BEGIN:VCALENDAR
VERSION:2.0
PRODID:-//Boomi ry - ECPv6.15.20//NONSGML v1.0//EN
CALSCALE:GREGORIAN
METHOD:PUBLISH
X-WR-CALNAME:Boomi ry
X-ORIGINAL-URL:https://boomi.fi
X-WR-CALDESC:Tapahtumat Boomi ry
REFRESH-INTERVAL;VALUE=DURATION:PT1H
X-Robots-Tag:noindex
X-PUBLISHED-TTL:PT1H
BEGIN:VTIMEZONE
TZID:Europe/Helsinki
BEGIN:DAYLIGHT
TZOFFSETFROM:+0200
TZOFFSETTO:+0300
TZNAME:EEST
DTSTART:20240331T010000
END:DAYLIGHT
BEGIN:STANDARD
TZOFFSETFROM:+0300
TZOFFSETTO:+0200
TZNAME:EET
DTSTART:20241027T010000
END:STANDARD
BEGIN:DAYLIGHT
TZOFFSETFROM:+0200
TZOFFSETTO:+0300
TZNAME:EEST
DTSTART:20250330T010000
END:DAYLIGHT
BEGIN:STANDARD
TZOFFSETFROM:+0300
TZOFFSETTO:+0200
TZNAME:EET
DTSTART:20251026T010000
END:STANDARD
BEGIN:DAYLIGHT
TZOFFSETFROM:+0200
TZOFFSETTO:+0300
TZNAME:EEST
DTSTART:20260329T010000
END:DAYLIGHT
BEGIN:STANDARD
TZOFFSETFROM:+0300
TZOFFSETTO:+0200
TZNAME:EET
DTSTART:20261025T010000
END:STANDARD
END:VTIMEZONE
BEGIN:VEVENT
DTSTART;TZID=Europe/Helsinki:20250428T150000
DTEND;TZID=Europe/Helsinki:20250429T040000
DTSTAMP:20260419T214827
CREATED:20250320T114259Z
LAST-MODIFIED:20260323T104935Z
UID:13187-1745852400-1745899200@boomi.fi
SUMMARY:Särkän Märkä 2025
DESCRIPTION:Vapun hurjin opiskelijatapahtuma Särkän Märkä järjestetään maanantaina 28.4.2025! Tänä vuonna vietetään 10. juhlavuotta\, joten nyt juhlitaan isommin kuin koskaan! 🤩 \nLuvassa on huvipuistolaitteita\, monipuolisia ja ennennäkemättömiä oheisaktiviteetteja\, sponsoripisteitä sekä tietenkin huikeaa lavaohjelmaa ja yllätysartistin keikka! Särkänniemestä bussikyydit kuljettavat osallistujat huippuartistien tähdittämille jatkoille Tampereen yökerhoihin. Särkänniemi on tapahtuman ajan anniskelualuetta ja auki vain opiskelijoille. 💦 \nSeuraa tapahtumaa Instagramissa @sarkanmarka\, jotta et jää paitsi tärkeistä tiedoista\, arvonnoista ja muista yllätyksistä! Nähdään Särkänniemessä!🩵
URL:https://boomi.fi/tapahtuma/sarkan-marka-2025/
ATTACH;FMTTYPE=image/png:https://boomi.fi/wp-content/uploads/2025/03/sunnuntai-9-1.png
END:VEVENT
END:VCALENDAR