BEGIN:VCALENDAR
VERSION:2.0
PRODID:-//Boomi ry - ECPv6.15.20//NONSGML v1.0//EN
CALSCALE:GREGORIAN
METHOD:PUBLISH
X-ORIGINAL-URL:https://boomi.fi
X-WR-CALDESC:Tapahtumat Boomi ry
REFRESH-INTERVAL;VALUE=DURATION:PT1H
X-Robots-Tag:noindex
X-PUBLISHED-TTL:PT1H
BEGIN:VTIMEZONE
TZID:Europe/Helsinki
BEGIN:DAYLIGHT
TZOFFSETFROM:+0200
TZOFFSETTO:+0300
TZNAME:EEST
DTSTART:20240331T010000
END:DAYLIGHT
BEGIN:STANDARD
TZOFFSETFROM:+0300
TZOFFSETTO:+0200
TZNAME:EET
DTSTART:20241027T010000
END:STANDARD
BEGIN:DAYLIGHT
TZOFFSETFROM:+0200
TZOFFSETTO:+0300
TZNAME:EEST
DTSTART:20250330T010000
END:DAYLIGHT
BEGIN:STANDARD
TZOFFSETFROM:+0300
TZOFFSETTO:+0200
TZNAME:EET
DTSTART:20251026T010000
END:STANDARD
BEGIN:DAYLIGHT
TZOFFSETFROM:+0200
TZOFFSETTO:+0300
TZNAME:EEST
DTSTART:20260329T010000
END:DAYLIGHT
BEGIN:STANDARD
TZOFFSETFROM:+0300
TZOFFSETTO:+0200
TZNAME:EET
DTSTART:20261025T010000
END:STANDARD
END:VTIMEZONE
BEGIN:VEVENT
DTSTART;TZID=Europe/Helsinki:20250626T170000
DTEND;TZID=Europe/Helsinki:20250626T220000
DTSTAMP:20260419T233943
CREATED:20250616T171628Z
LAST-MODIFIED:20250616T171628Z
UID:13504-1750957200-1750975200@boomi.fi
SUMMARY:Alumnien ja maistereiden afterworkit Tampere
DESCRIPTION:MISSÄ: Kaupinojan uimaranta\, Kaupinpuistonkatu 2\, 33500 Tampere\nMILLON: Torstaina 26.6. Klo 17.00\nKENELLE: Kaikille Boomin alumneille & nykyisille jäsenille\nMITEN MUKAAN: Ilmoittaudu tästä linkistä: https://forms.office.com/e/vY4MyMLeYT 22.6. mennessä\nMITÄ MAKSAA: ILMAINEN \nVapusta aletaan olemaan jo selvitty\, juhannus on melkein täällä ja kesä lämmittää ihmisiä niin toimistoilla kuin muuallakin. Kesää ei tarvitse kuitenkaan viettää vain työn parissa vaan on mahdollista nähdä uusia sekä vanhoja tuttuja Boomin alumnien ja maistereiden afterworkkien parissa! \n26.6. kello 17-18 on mahdollisuus päästä Tampereella Kaupinojanuimarannalla (Kaupinpuistonkatu 2\, 33500 Tampere) suppailemaan mitä parhaimmassa seurassa ja toivottavasti säässä. Olit sitten kokenut laudalla liikkuja tai ensikertalainen\, niin hauskaa varmasti tulee olemaan rennossa porukassa. Tilaisuus on avoin niin Boomista aikanaan valmistuneille kuin yhä täällä opiskeleville. Ja ei hätää\, vaikka työtä kesälle ei olisikaan tärpännyt\, ei ole allekirjoittaneellakaan\, sillä se ei ole mikään este tulla nauttimaan aftereiden tunnelmasta! \nMukaan tarvitset ainoastaan hyvän fiiliksen sekä suppailuun sopivat varusteet\, mukaan lukien mahdolliset vaihtovaatteet yms tarvikkeet. \nIlmoittautuminen suppailuun on tärkeää\, jotta saamme tarpeeksi lautoja varattua\, mutta tapahtuma on kuitenkin täysin ilmainen. Ilmoittautuminen tapahtuu tämän linkin kautta: https://forms.office.com/e/vY4MyMLeYT ja ilmoittautuminen sulkeutuu 22.6. 23.59 \nPidetään tapahtuma kaikille turvallisena ja häirinnästä vapaana. Boomilla on nollatoleranssi häirinnälle ja epäasialliselle kohtelulle. Jos kuitenkin kohtaat epäsopivaa käytöstä\, voit ottaa yhteyttä Boomin häirintätukihenkilöihin. Yhteystiedot löytyvät osoitteesta https://boomi.fi/opiskelu/hairinta/. Halutessasi voit myös ottaa yhteyttä Trey:n häirintäyhdyshenkilöihin hairinta@trey.fi .\nOsallistumalla tapahtumaan sitoudut myös noudattamaan Boomin turvallisemman tilan periaatteita (https://boomi.fi/turvallisemmantilan-periaatteet/). Tapahtuman järjestäjällä on oikeus poistaa häiritsevästi käyttäytyvä henkilö tapahtumasta. Tapahtuma ei ole esteetön. Esteettömyyteen liittyen yhteyshenkilönä toimii Alex Lindh\, 045 1104177 / Telegram: @HappeningsLindi
URL:https://boomi.fi/tapahtuma/alumnien-ja-maistereiden-afterworkit-tampere/
ATTACH;FMTTYPE=image/jpeg:https://boomi.fi/wp-content/uploads/2025/06/2.jpg
END:VEVENT
END:VCALENDAR