BEGIN:VCALENDAR
VERSION:2.0
PRODID:-//Boomi ry - ECPv6.15.20//NONSGML v1.0//EN
CALSCALE:GREGORIAN
METHOD:PUBLISH
X-ORIGINAL-URL:https://boomi.fi
X-WR-CALDESC:Tapahtumat Boomi ry
REFRESH-INTERVAL;VALUE=DURATION:PT1H
X-Robots-Tag:noindex
X-PUBLISHED-TTL:PT1H
BEGIN:VTIMEZONE
TZID:Europe/Helsinki
BEGIN:DAYLIGHT
TZOFFSETFROM:+0200
TZOFFSETTO:+0300
TZNAME:EEST
DTSTART:20240331T010000
END:DAYLIGHT
BEGIN:STANDARD
TZOFFSETFROM:+0300
TZOFFSETTO:+0200
TZNAME:EET
DTSTART:20241027T010000
END:STANDARD
BEGIN:DAYLIGHT
TZOFFSETFROM:+0200
TZOFFSETTO:+0300
TZNAME:EEST
DTSTART:20250330T010000
END:DAYLIGHT
BEGIN:STANDARD
TZOFFSETFROM:+0300
TZOFFSETTO:+0200
TZNAME:EET
DTSTART:20251026T010000
END:STANDARD
BEGIN:DAYLIGHT
TZOFFSETFROM:+0200
TZOFFSETTO:+0300
TZNAME:EEST
DTSTART:20260329T010000
END:DAYLIGHT
BEGIN:STANDARD
TZOFFSETFROM:+0300
TZOFFSETTO:+0200
TZNAME:EET
DTSTART:20261025T010000
END:STANDARD
END:VTIMEZONE
BEGIN:VEVENT
DTSTART;TZID=Europe/Helsinki:20250904T210000
DTEND;TZID=Europe/Helsinki:20250905T050000
DTSTAMP:20260421T164425
CREATED:20250830T161805Z
LAST-MODIFIED:20250830T161805Z
UID:13966-1757019600-1757048400@boomi.fi
SUMMARY:Syyskuun Poikkitieteelliset Haalaribileet – New kids on the Block
DESCRIPTION:MISSÄ: Viihdemaailma Ilona (Verkatehtaankatu 3) & Fame Club (Satakunnankatu 18)\nMILLOIN: Torstaina 4.9.2025 klo 21-04\nMITEN: Ennakkolippu 5 €\, ovelta 6 €. Ennakkolipulliset ovat ovella ensisijaisia klo 23 saakka\, jonka jälkeen lippuja myydään 6 € hintaan tai jo aiemmin\, mikäli ennakkolipullisten jono loppuu. \nEnnakkoliput Kide.app-palvelusta torstaina 28.8.2025 klo 12 \nNEW KIDS ON THE BLOCK \nJa taas se lähtee! 🥳 Uusi opintovuosi ja uudet kujeet vai mitä? Syksyn ensimmäisissä Haalaribileissä meno nostetaan entistäkin korkeammalle kun uudet tulokkaat pyörähtävät kortteliin \nNEW KIDS ON THE BLOCK toivottaa tervetulleeksi uudet fuksit ja vanhat konkarit takaisin opintoihin. Haalaribileet starttaa syksyn ysäritunnelmissa tällä kertaa Ilonassa ja Famessa. Luvassa on täyttä opiskelijabilemeininkiä\, opiskelijahintaisia juomia ja fiilistä joka kantaa pitkälle yöhön! \nHaalarit jalkaan ja yläosaan jotain ysärivibaa – värikästä\, rentoa ja sellaista missä jaksaa bailata koko illan. \nTule aloittamaan syksy kavereiden kanssa ja näytä kuka on tämän syksyn uusin tähti korttelissa🌟 \nSeuraa Haalaribileitä Instagramissa niin tiedät mistä koko haalarikansa puhuu. Meidät löydät tietenkin nimellä @haalaribileet!
URL:https://boomi.fi/tapahtuma/syyskuun-poikkitieteelliset-haalaribileet-new-kids-on-the-block/
LOCATION:Viihdemaailma Ilona\, Verkatehtaankatu 3\, Tampere\, 33100\, Finland
ATTACH;FMTTYPE=image/jpeg:https://boomi.fi/wp-content/uploads/2025/08/boom-new-kids-on-the-block-2025-some-1920x1080-1.jpg
END:VEVENT
END:VCALENDAR