BEGIN:VCALENDAR
VERSION:2.0
PRODID:-//Boomi ry - ECPv6.15.20//NONSGML v1.0//EN
CALSCALE:GREGORIAN
METHOD:PUBLISH
X-ORIGINAL-URL:https://boomi.fi
X-WR-CALDESC:Tapahtumat Boomi ry
REFRESH-INTERVAL;VALUE=DURATION:PT1H
X-Robots-Tag:noindex
X-PUBLISHED-TTL:PT1H
BEGIN:VTIMEZONE
TZID:Europe/Helsinki
BEGIN:DAYLIGHT
TZOFFSETFROM:+0200
TZOFFSETTO:+0300
TZNAME:EEST
DTSTART:20240331T010000
END:DAYLIGHT
BEGIN:STANDARD
TZOFFSETFROM:+0300
TZOFFSETTO:+0200
TZNAME:EET
DTSTART:20241027T010000
END:STANDARD
BEGIN:DAYLIGHT
TZOFFSETFROM:+0200
TZOFFSETTO:+0300
TZNAME:EEST
DTSTART:20250330T010000
END:DAYLIGHT
BEGIN:STANDARD
TZOFFSETFROM:+0300
TZOFFSETTO:+0200
TZNAME:EET
DTSTART:20251026T010000
END:STANDARD
BEGIN:DAYLIGHT
TZOFFSETFROM:+0200
TZOFFSETTO:+0300
TZNAME:EEST
DTSTART:20260329T010000
END:DAYLIGHT
BEGIN:STANDARD
TZOFFSETFROM:+0300
TZOFFSETTO:+0200
TZNAME:EET
DTSTART:20261025T010000
END:STANDARD
END:VTIMEZONE
BEGIN:VEVENT
DTSTART;TZID=Europe/Helsinki:20251008T170000
DTEND;TZID=Europe/Helsinki:20251008T200000
DTSTAMP:20260421T223207
CREATED:20250922T125009Z
LAST-MODIFIED:20250922T125009Z
UID:14116-1759942800-1759953600@boomi.fi
SUMMARY:Normi ry: Lecklé Oy excursio
DESCRIPTION:Mitä: Normi ry:n excu Lecklélle! \nKenelle: Kaikille verotuksesta kiinnostuneille opiskelijoille! \nMissä: Lecklén toimitiloissa Tampereella osoitteessa Satakunnankatu 22 E 2. krs. \nMilloin: Keskiviikkona 8.10.2025 klo 17:00-20:00 \nIlmoittautuminen: Kide.app 25.9. klo 12 \nTervetuloa yhdessä Normin kanssa yritysvierailulle tutustumaan Leckléen yrityksenä\, sen eri palveluihin ja erityisesti arvonlisävero- ja tuloveroveropraktiikoihin! \nYritysvierailun aikana pääset kuulemaan eri asiantuntijoidemme inspiroivia uratarinoita\, mitä veroasiantuntijan työ on käytännössä sekä minkälaisia uramahdollisuuksia Lecklé tarjoaa vero-oikeuden ja yritysjuridiikan opiskelijoille. Luvassa on myös leikkimielinen veroaiheinen kilpailu. Tarjolla on illan aikana pizzaa\, viiniä ja muuta naposteltavaa. \nLecklé on työllistänyt useampia Tampereen yliopistossa vero-oikeutta ja yritysjuridiikkaa opiskelleita asiantuntijoita. Tarjolla on siis hyvin konkreettinen mahdollisuus päästä kuulemaan minkälaisiin tehtäviin kyseinen pääaine voi johdattaa! \nPaikkoja on tarjolla hyvin rajallinen määrä\, joten kannattaa toimia nopeasti ja ilmoittautua mukaan! Huomioithan\, että ilmoittautuminen on sitova. \nMikä Lecklé? Tarjoamme laadukasta ja kustannustehokasta vero- ja liikejuridiikan osaamista\, strategia- ja yritysjärjestelypalveluita sekä HR-konsultointia kokonaisvaltaisesti suunnittelusta toteutukseen. \nOlemme valtakunnallinen toimija ja avustamme asiakkaitamme ympäri Suomen. Toimistomme sijaitsevat Tampereella\, Helsingissä\, Jyväskylässä\, Seinäjoella ja Oulussa. Suunnittelemme\, johdamme ja toteutamme noin 50 henkilön tiimillämme ratkaisuja\, jotka tukevat asiakkaan liiketoimintaa\, omistajastrategiaa ja osaltaan mahdollistavat tavoitteiden saavuttamisen. \nTyöskentelemme asiakkaan edun edistämiseksi asianmukaisessa laajuudessa ja asianmukaisella veloituksella. Välittäminen\, välittömyys ja joustavuus ovat keskeisiä toimintatapojamme.
URL:https://boomi.fi/tapahtuma/normi-ry-leckle-oy-excursio/
ATTACH;FMTTYPE=image/jpeg:https://boomi.fi/wp-content/uploads/2025/09/Leckle.jpg
END:VEVENT
END:VCALENDAR