BEGIN:VCALENDAR
VERSION:2.0
PRODID:-//Boomi ry - ECPv6.15.20//NONSGML v1.0//EN
CALSCALE:GREGORIAN
METHOD:PUBLISH
X-WR-CALNAME:Boomi ry
X-ORIGINAL-URL:https://boomi.fi
X-WR-CALDESC:Tapahtumat Boomi ry
REFRESH-INTERVAL;VALUE=DURATION:PT1H
X-Robots-Tag:noindex
X-PUBLISHED-TTL:PT1H
BEGIN:VTIMEZONE
TZID:Europe/Helsinki
BEGIN:DAYLIGHT
TZOFFSETFROM:+0200
TZOFFSETTO:+0300
TZNAME:EEST
DTSTART:20240331T010000
END:DAYLIGHT
BEGIN:STANDARD
TZOFFSETFROM:+0300
TZOFFSETTO:+0200
TZNAME:EET
DTSTART:20241027T010000
END:STANDARD
BEGIN:DAYLIGHT
TZOFFSETFROM:+0200
TZOFFSETTO:+0300
TZNAME:EEST
DTSTART:20250330T010000
END:DAYLIGHT
BEGIN:STANDARD
TZOFFSETFROM:+0300
TZOFFSETTO:+0200
TZNAME:EET
DTSTART:20251026T010000
END:STANDARD
BEGIN:DAYLIGHT
TZOFFSETFROM:+0200
TZOFFSETTO:+0300
TZNAME:EEST
DTSTART:20260329T010000
END:DAYLIGHT
BEGIN:STANDARD
TZOFFSETFROM:+0300
TZOFFSETTO:+0200
TZNAME:EET
DTSTART:20261025T010000
END:STANDARD
END:VTIMEZONE
BEGIN:VEVENT
DTSTART;TZID=Europe/Helsinki:20251021T090000
DTEND;TZID=Europe/Helsinki:20251021T210000
DTSTAMP:20260421T223045
CREATED:20250925T114746Z
LAST-MODIFIED:20250925T155336Z
UID:14138-1761037200-1761080400@boomi.fi
SUMMARY:The Amazing Case 2025
DESCRIPTION:Oletko valmis vuoden suurimpaan ja rahakkaimpaan asiatapahtumaan?! 💶 \nToista kertaa järjestettävä The Amazing Case on taas täällä! 🏆 Jos siis 21.10. ei ole vielä merkitty kalenteriisi\, tee se viimeistään nyt! \n  \nMITÄ: Vuoden suurin ja rahakkain asiatapahtuma – The Amazing Case -rastikilpailu! \nMISSÄ: Dynamo Business Park\, Hatanpään valtatie 24 \nMILLOIN: Tiistaina 21.10. klo 9:00 – n. 19.00. Joukkueiden tulee olla läsnä koko päivän ajan. \nMITEN MUKAAN: Joukkueilmoittautuminen Forms-lomakkeella 2.10. klo 12. Lomake matkalla. \n  \nTämä aivonystyröitä kutkuttava joukkuekilpailu tarjoaa boomareille mahdollisuuden päästä haastamaan omaa osaamistaan ja ottamaan mittaa toisistaan\, kun yritykset saapuvat esittelemään case-tehtävänsä\, joita osallistujajoukkueet pääsevät vuorollaan ratkomaan. Yritykset pisteyttävät jokaisen tiimin suoritukset ja suurimmat yhteispisteet kerännyt tiimi voittaa.🏅 Tapahtuman voittajajoukkueelle on luvassa huikea 2000 euron rahapalkinto\, joka jaetaan voittajatiimin jäsenten kesken. Tämän lisäksi yritykset voivat palkita omissa tehtävissään parhaiten suoriutuneita. \nItse kisan jälkeen lähdetään jatkamme päivää aftereiden ja päivällisen merkeissä\, joilla on mahdollisuus päästä jututtamaan yritysten edustajia rennommissa merkeissä. Aftereilla myös julistetaan ja palkitaan kisan voittaja! Afterit ovat osa tapahtumaa ja niihin osallistuminen on pakollista. \nTässä tapahtumassa tiimin monipuolisuus ja laaja osaaminen eri kauppatieteiden pääainesuuntauksista on valttia! Kerää siis itsellesi viimeistään nyt 4-5 hengen tiimi ja ole valmiina ilmoittautumaan tapahtumaan 2.10. klo 12 eteenpäin. Ilmoittautumista varten joukkue valitsee keskuudestaan kapteenin\, joka ilmoittaa koko joukkueen tapahtumaan. Vain yksi ilmoittautuminen per joukkue. \nOHJEET JA TIEDOT ILMOITTAUTUJILLE – LUE HUOLELLA \nThe Amazing Case on case-rastikilpailu\, johon osallistutaan 4-5 hengen joukkueella. Tapahtumaan mahtuu tänä vuonna 8 joukkuetta ja mukaan pääsevät joukkueet valitaan ilmoittautumisjärjestyksessä. Tapahtuma on suunnattu vanhemmille opiskelijoille\, joten fuksit eivät voi osallistua. \nIlmoittautuminen tapahtuu tiistaina 2.10. Forms-lomakkeella klo 12 alkaen. Ilmoittautumista varten joukkue valitsee keskuudestaan kapteenin\, joka ilmoittaa koko joukkueen tapahtumaan. Vain yksi ilmoittautuminen per joukkue. Mukaan valikoituville joukkueille lähetetään ilmoittautumisen jälkeen vielä erillinen ohjepaketti\, joka sisältää tarkemmat ohjeet tapahtumasta. ILMOITTAUTUMINEN ON SITOVA!  \nTapahtumassa kierretään joukkueen kanssa yhteensä neljän yrityksen case-tehtävärastit\, joista jokainen pisteytetään. Case-tehtävissä on hyötyä eri pääainesuuntien opinnoista\, joten tämä kannattaa huomioida joukkuetta kasatessa. Aikaa kullakin rastilla vietetään kaikkinensa n. 75 minuuttia. Luvassa on siis pitkä päivä\, johon kuitenkin on aikataulutettu tunnin lounastauko. Joukkueet voivat valita missä ruokailevat lounaalla omakustanteisesti. Juvenes Dynamossa on tarjolla lounasbuffet. Kaikki rastipaikat sijaitsevat Dynamo Business Parkissa ja tapahtumassa on Boomin yrppäjaosto ohjaamassa rasteille siirtymisessä ja suoritusten valvonnassa. \nVoittajajoukkueelle on luvassa yhteensä 2000 euron palkintopotti\, joka jaetaan joukkueen jäsenten kesken tasan. Voitto ratkeaa rastien yhteispisteiden perusteella ja jokainen rasti on painotukseltaan saman arvoinen. Kaikenlainen vilppi tai ohjeiden laiminlyönti johtaa joko yhden tai kaikkien case-suoritusten mitätöimiseen ja/tai kilpailusta diskaamiseen. Rastikohtaiset ohjeet annetaan kullakin suorituspaikalla erikseen. \nItse rastikierros alkaa klo 9:30 ja päättyy noin klo 15.30. Tämän jälkeen siirrymme ravintolan puolelle\, joka on varattu käyttöömme illaksi. Syömisen lisäksi aftereilla julistetaan ja palkitaan voittajajoukkue sekä jaetaan mahdollisesti yritysten myöntämät palkinnot kullakin rastilla parhaiten suoriutuneelle joukkueelle. \nTAPAHTUMAN AIKATAULU:  \n9.00 – 9.30 Tapahtuma alkaa infotilaisuudella Juvenes Dynamossa. Infotilaisuus on sekä yritysedustajille että joukkueille ja kestää noin puoli tuntia. \n9.30 – 12.00 Joukkueet kiertävät rasteja (yhteensä 2 rastia). \n12:00– 13:00 LOUNAS. Osallistujat saavat valita ruokailevatko omakustenteisesti siellä vai muualla. \n13:00 – 15:30 Joukkueet kiertävät rasteja (loput 2 rastia) \n16:00 –>  Afterit/Päivällinen/Palkintojenjako Juvenes Dynamon tiloissa. Meille on tarjolla buffet ja baari on auki. Ravintola on varattu käyttöömme koko illaksi. Aftereilla teillä on mahdollisuus verkostoitua tapahtumaan osallistuneiden yritysten kanssa. Aftereilla myös julistetaan ja palkitaan kisan voittaja. Afterit ovat pakollinen osa osallistumista.
URL:https://boomi.fi/tapahtuma/the-amazing-case-2025/
LOCATION:Dynamo Business Park\, Hatanpään valtatie 24\, Tampere
CATEGORIES:Asia
ATTACH;FMTTYPE=image/png:https://boomi.fi/wp-content/uploads/2025/09/The-Amazing-Case-2025.png
ORGANIZER;CN="Boomi ry":MAILTO:hallitus@boomi.fi
END:VEVENT
END:VCALENDAR