BEGIN:VCALENDAR
VERSION:2.0
PRODID:-//Boomi ry - ECPv6.15.20//NONSGML v1.0//EN
CALSCALE:GREGORIAN
METHOD:PUBLISH
X-ORIGINAL-URL:https://boomi.fi
X-WR-CALDESC:Tapahtumat Boomi ry
REFRESH-INTERVAL;VALUE=DURATION:PT1H
X-Robots-Tag:noindex
X-PUBLISHED-TTL:PT1H
BEGIN:VTIMEZONE
TZID:Europe/Helsinki
BEGIN:DAYLIGHT
TZOFFSETFROM:+0200
TZOFFSETTO:+0300
TZNAME:EEST
DTSTART:20250330T010000
END:DAYLIGHT
BEGIN:STANDARD
TZOFFSETFROM:+0300
TZOFFSETTO:+0200
TZNAME:EET
DTSTART:20251026T010000
END:STANDARD
BEGIN:DAYLIGHT
TZOFFSETFROM:+0200
TZOFFSETTO:+0300
TZNAME:EEST
DTSTART:20260329T010000
END:DAYLIGHT
BEGIN:STANDARD
TZOFFSETFROM:+0300
TZOFFSETTO:+0200
TZNAME:EET
DTSTART:20261025T010000
END:STANDARD
BEGIN:DAYLIGHT
TZOFFSETFROM:+0200
TZOFFSETTO:+0300
TZNAME:EEST
DTSTART:20270328T010000
END:DAYLIGHT
BEGIN:STANDARD
TZOFFSETFROM:+0300
TZOFFSETTO:+0200
TZNAME:EET
DTSTART:20271031T010000
END:STANDARD
END:VTIMEZONE
BEGIN:VEVENT
DTSTART;TZID=Europe/Helsinki:20260330T170000
DTEND;TZID=Europe/Helsinki:20260330T220000
DTSTAMP:20260423T134141
CREATED:20260316T083037Z
LAST-MODIFIED:20260316T083037Z
UID:15631-1774890000-1774908000@boomi.fi
SUMMARY:Golfseuran Simuscramble
DESCRIPTION:FOOOOOOOOORE! \nMITÄ: 2-hengen simulaattoriscramble\nMILLOIN: 30.3 klo 17-21\nKENELLE: Golfaaville Boomareille\nMITEN: Liput Kide.Appista 23.3. klo 14\nMITÄ MUKAAN: Golfvarusteet \nLIPUT MYYDÄÄN PAREILLE! \nGolfkausi on jo ihan nurkan takana! Nyt on hyvä aika mennä availemaan paikkoja ja testaamaan miten se pallo lentää\, kun Boomin Golfseura järjestää kisailut EasyGolfin simulaattorissa Partolassa. Ota mukaasi lempi scrambleparisi ja tule mukaan maanantaina 30.3. klo 17 Partolaan. Lippu tapahtumaan maksaa 15€/osallistuja ja sisältää neljän tunnin pelit paikan päällä sekä pientä purtavaa. Sauna ja poreamme lämpenevät pelien jälkeen! Lipunmyynti aukeaa Kide.Appissa maanantaina 23.3. klo 14. \nOta yhteyttä Telegramissa @laurakarukka\, mikäli sinulla herää muita kysymyksiä tapahtumaan liittyen.
URL:https://boomi.fi/tapahtuma/golfseuran-simuscramble/
LOCATION:EezyGolf Partola\, Naistenmatkantie 76\, Tampere\, 33950\, Finland
CATEGORIES:Hyvinvointi
ATTACH;FMTTYPE=image/jpeg:https://boomi.fi/wp-content/uploads/2026/03/Simuscramble-vaaka.jpg
ORGANIZER;CN="Boomin Golfseura":MAILTO:golf@boomi.fi
END:VEVENT
END:VCALENDAR