BEGIN:VCALENDAR
VERSION:2.0
PRODID:-//Boomi ry - ECPv6.15.20//NONSGML v1.0//EN
CALSCALE:GREGORIAN
METHOD:PUBLISH
X-WR-CALNAME:Boomi ry
X-ORIGINAL-URL:https://boomi.fi
X-WR-CALDESC:Tapahtumat Boomi ry
REFRESH-INTERVAL;VALUE=DURATION:PT1H
X-Robots-Tag:noindex
X-PUBLISHED-TTL:PT1H
BEGIN:VTIMEZONE
TZID:Europe/Helsinki
BEGIN:DAYLIGHT
TZOFFSETFROM:+0200
TZOFFSETTO:+0300
TZNAME:EEST
DTSTART:20250330T010000
END:DAYLIGHT
BEGIN:STANDARD
TZOFFSETFROM:+0300
TZOFFSETTO:+0200
TZNAME:EET
DTSTART:20251026T010000
END:STANDARD
BEGIN:DAYLIGHT
TZOFFSETFROM:+0200
TZOFFSETTO:+0300
TZNAME:EEST
DTSTART:20260329T010000
END:DAYLIGHT
BEGIN:STANDARD
TZOFFSETFROM:+0300
TZOFFSETTO:+0200
TZNAME:EET
DTSTART:20261025T010000
END:STANDARD
BEGIN:DAYLIGHT
TZOFFSETFROM:+0200
TZOFFSETTO:+0300
TZNAME:EEST
DTSTART:20270328T010000
END:DAYLIGHT
BEGIN:STANDARD
TZOFFSETFROM:+0300
TZOFFSETTO:+0200
TZNAME:EET
DTSTART:20271031T010000
END:STANDARD
END:VTIMEZONE
BEGIN:VEVENT
DTSTART;TZID=Europe/Helsinki:20260401T170000
DTEND;TZID=Europe/Helsinki:20260401T233000
DTSTAMP:20260423T131639
CREATED:20260309T092104Z
LAST-MODIFIED:20260309T092104Z
UID:15595-1775062800-1775086200@boomi.fi
SUMMARY:Huhtikuun Poikkitieteelliset Haalaribileet & HaalariAppro
DESCRIPTION:MITÄ: Huhtikuun Poikkitieteelliset Haalaribileet & Haalariapprot \nMISSÄ: Approkierros Tampereen keskustan baareissa ja ravintoloissa\, Haalaribileet Viihdemaailma Ilonassa (Verkatehtaankatu 3) \nMILLOIN: Keskiviikkona 1.4.2026 Approkierros klo 17-22\, Haalaribileet klo 21-04 \nMITEN: Haalariappro + Haalaribile-lippu 12€ Kide.appissa\, ovelta Haalaribilelippu 7€. \nEnnakkoliput Kide.app-palvelusta keskiviikkona 18.3.2026 klo 12 \nHaalariAppro on täällä taas! 🩷💙 \nHaalariAppro tarjoaa täydellisen mahdollisuuden nauttia keväisestä kaupungista\, kiertää Tampereen keskustan parhaita baareja ja ravintoloita sekä kerätä leimoja suorituskarttaan perinteisen approkierroksen hengessä! 🤩 \nKun kierros on suoritettu\, juhlat jatkuvat huhtikuun Haalaribileissä Ilonassa\, missä tanssilattia täyttyy haalarikansasta ja bilefiilis nousee kattoon aina aamuun asti. Illan kruunaa ikoninen Sara Bee\, joka tuo lavalle energisen show’n ja pitää tunnelman korkealla koko yön!🕺🥳 \nHaalariAppro toimii huhtikuun Haalaribileiden virallisena etkotapahtumana. Kierroksen aikana kerätään seitsemän leimaa ennalta määritellyissä suorituspaikoissa\, ja täyden kartan palauttaneet osallistujat palkitaan upealla HaalariAppro-haalarimerkillä Bricksissä sijaitsevassa maalissa. \nKartat vaihdetaan Bar Passionissa tapahtumapäivänä\, ja kierros on suoritettavissa klo 17–22 välisenä aikana. \nHaalariAppro + Haalaribile -lippu sisältää:\n✨ suorituskartan\n✨ HaalariAppro-haalarimerkin täyttä karttaa vastaan\n✨ ennakkolipun huhtikuun Haalaribileisiin
URL:https://boomi.fi/tapahtuma/huhtikuun-poikkitieteelliset-haalaribileet-haalariappro/
LOCATION:Viihdemaailma Ilona\, Verkatehtaankatu 3\, Tampere\, 33100\, Finland
CATEGORIES:Bileet ja juhlat
ATTACH;FMTTYPE=image/jpeg:https://boomi.fi/wp-content/uploads/2026/03/haalariapprot-2026-1920x1080-1.jpg
ORGANIZER;CN="Boomi ry":MAILTO:hallitus@boomi.fi
END:VEVENT
BEGIN:VEVENT
DTSTART;TZID=Europe/Helsinki:20260401T190000
DTEND;TZID=Europe/Helsinki:20260401T220000
DTSTAMP:20260423T131639
CREATED:20260309T092436Z
LAST-MODIFIED:20260309T092436Z
UID:15592-1775070000-1775080800@boomi.fi
SUMMARY:NESU-Boomin Juhannussimaa -sitsit
DESCRIPTION:MITÄ: NESU-Boomin Juhannussimaa -sitsit\nMISSÄ: Laulumaja\, Takojankatu 1\nMILLOIN: 1.4. klo 19.00\nMIKSI: koska kuka ei haluisi approilla\, sitsata ja bilettää samana päivänä\nLIPUT: 19 € (sitsit) / 27 € (sis. approt + sitsit + jatkot. NESU-Boomi on kompensoinut osan approlipun hinnasta). Myydään 13.3. klo 12.00 Klubilla.\nETKOT: HaalariAppro\nJATKOT: Huhtikuun Haalaribileet\, Viihdemaailma Ilona\nDRESSCODE: haalarit + Fingerpori \nKevät on siinä vaiheessa\, jossa Heimo Vesa suosittelisi rauhallista valmistautumista vappuun. Päätämme kuitenkin päästää Juhan valloilleen tapahtumassa\, jossa rauhallinen on lähinnä tulkintakysymys\, aivan kuten Fingerporissakin.☀ \nEnnen sitsejä ne kaikkein järkevimmät kiertävät haalariAppron. Jo sitsien alussa tunnelma nousee nopeasti\, mutta muistakaa\, että liian nopea nousu kostautuu aamulla\, etenkin kun ilta jatkuu vielä haalaribileissä. \nKun joku siis kysyy\, onko aprillipäivälle suunnitelmia\, vastaus on selvä: mennään rottaporukalla sitsaamaan. 🐀🥂 \n‼ Jos osallistut wappurundille\, ei tarvitse ostaa erikseen lippua sitseille. ‼ \nPidetään tapahtuma kaikille turvallisena ja häirinnästä vapaana. Boomilla sekä NESU-Boomilla on nollatoleranssi häirinnälle ja epäasialliselle kohtelulle. Jos kuitenkin kohtaat epäsopivaa käytöstä\, voit ottaa yhteyttä Boomin tai NESU-Boomin häirintätukihenkilöihin. Tapahtumassa esitellään paikalla olevat häirintäyhdyshenkilöt. Yhteystiedot Boomin häirintätukihenkilöille löytyvät osoitteesta https://boomi.fi/opiskelu/hairinta/. Yhteystiedot NESU-Boomin häirintäyhdyshenkilöihin löytyvät osoitteesta https://nesu.net/hairintayhdyshenkilot/ . Halutessasi voit myös ottaa yhteyttä Trey:n häirintäyhdyshenkilöihin hairinta@trey.fi. Tapahtuman järjestäjä voi tarvittaessa poistaa häiritsevästi käyttäytyvän henkilön tapahtumasta. \nNESU-Boomi ry ei käytä tapahtumaan osallistumista varten annettuja yhteystietoja muuhun tarkoitukseen\, eikä jaa tietoja ulkopuolisen toimijan kanssa. Käsittelemme tietoja siinä määrin kuin tarkoitus vaatii. Tämän jälkeen tiedot poistetaan tietoturvallisesti\, paitsi jos tiedot ovat nimettömiä tai jos niiden säilyttämiselle on jokin muu oikeusperuste.
URL:https://boomi.fi/tapahtuma/nesu-boomin-juhannussimaa-sitsit/
LOCATION:Laulumaja\, Takojankatu 1\, Tampere\, 33540\, Finland
CATEGORIES:Bileet ja juhlat
ATTACH;FMTTYPE=image/jpeg:https://boomi.fi/wp-content/uploads/2026/03/Juhannussimaa-banneri.jpg
END:VEVENT
END:VCALENDAR