BEGIN:VCALENDAR
VERSION:2.0
PRODID:-//Boomi ry - ECPv6.15.20//NONSGML v1.0//EN
CALSCALE:GREGORIAN
METHOD:PUBLISH
X-ORIGINAL-URL:https://boomi.fi
X-WR-CALDESC:Tapahtumat Boomi ry
REFRESH-INTERVAL;VALUE=DURATION:PT1H
X-Robots-Tag:noindex
X-PUBLISHED-TTL:PT1H
BEGIN:VTIMEZONE
TZID:Europe/Helsinki
BEGIN:DAYLIGHT
TZOFFSETFROM:+0200
TZOFFSETTO:+0300
TZNAME:EEST
DTSTART:20250330T010000
END:DAYLIGHT
BEGIN:STANDARD
TZOFFSETFROM:+0300
TZOFFSETTO:+0200
TZNAME:EET
DTSTART:20251026T010000
END:STANDARD
BEGIN:DAYLIGHT
TZOFFSETFROM:+0200
TZOFFSETTO:+0300
TZNAME:EEST
DTSTART:20260329T010000
END:DAYLIGHT
BEGIN:STANDARD
TZOFFSETFROM:+0300
TZOFFSETTO:+0200
TZNAME:EET
DTSTART:20261025T010000
END:STANDARD
BEGIN:DAYLIGHT
TZOFFSETFROM:+0200
TZOFFSETTO:+0300
TZNAME:EEST
DTSTART:20270328T010000
END:DAYLIGHT
BEGIN:STANDARD
TZOFFSETFROM:+0300
TZOFFSETTO:+0200
TZNAME:EET
DTSTART:20271031T010000
END:STANDARD
END:VTIMEZONE
BEGIN:VEVENT
DTSTART;TZID=Europe/Helsinki:20260414T120000
DTEND;TZID=Europe/Helsinki:20260414T150000
DTSTAMP:20260423T133113
CREATED:20260407T090025Z
LAST-MODIFIED:20260407T090025Z
UID:15935-1776168000-1776178800@boomi.fi
SUMMARY:Vappupesis
DESCRIPTION:MITÄ? BOOMI VS. STAABI Pesäpallo-ottelu\nMISSÄ? Kaupin uusi Yläkenttä!\nMILLOIN? 14.4. klo 12 alkaen\nKENELLE? Kaikille Boomareille ja Staabeille\nMIKSI? Koska on aika ottaa mittaa pesäpallossa perinteiden mukaan!\nMITÄ MAKSAA? Ei mitään!\nMITÄ PUETAAN PÄÄLLE? Haalarit yleisöön\, pelaajille urheiluvaatteet! \nVapun legendaarisin urheilu tapahtuma on taas täällä\, kun Boomi kohtaa Staabin pesisottelussa 14.4.! Tule seuraamaan vapun suurta jännitysnäytelmää\, kun Tampereen merkittävimmät ainejärjestöt kamppailevat siitä kenet kruunataan pesäpallojumalaksi! Viime vuosina tunnelmaa ei näistä peleistä ole puuttunut\, joten nyt sankoin joukoin jatkamaan perinteitä ja ennen kaikkea kannustamaan kanssa Boomareita!!! Kiinnostaako Boomin joukkueessa pelaaminen? Forms-lomakkeen täyttämällä liityt joukkueeseen. Huomiothan että joukkeueessa on rajallinen määrä paikkoja (15) joten joukkue täytetään ilmoittautumisjärjestyksessä.
URL:https://boomi.fi/tapahtuma/vappupesis/
LOCATION:Kaupin yläkenttä\, Kuntokatu 24\, Tampere\, 33520
CATEGORIES:Hyvinvointi
ATTACH;FMTTYPE=image/png:https://boomi.fi/wp-content/uploads/2026/04/wappupesis2026.png
END:VEVENT
BEGIN:VEVENT
DTSTART;TZID=Europe/Helsinki:20260414T190000
DTEND;TZID=Europe/Helsinki:20260414T220000
DTSTAMP:20260423T133113
CREATED:20260323T133106Z
LAST-MODIFIED:20260323T134028Z
UID:15718-1776193200-1776204000@boomi.fi
SUMMARY:Kielletty Hedelmä -Pornobile etkot
DESCRIPTION:MITÄ?: Kielletty hedelmä -pornobile etkot\nMISSÄ?: Klubi 57\nMILLOIN?: 14.4.2026 klo 19-22\nMIKSI?: Koska kielletty hedelmä on paras hedelmä!\nMITÄ MUKAAN?: Haalarit + tuhma asenne\nMITEN MUKAAN?: Tapahtuma kuuluu Boomin vappupassiin \nAstu sisään paratiisiin\, jossa houkutukset valtaavat mielen ja katseet jäävät viipymään liiankin pitkäksi aikaa. Syntisen hyvä booli\, tuhmat pelit ja punaiset valot takaavat sen\, ettei matalimmankaan libidon omaava boomari suuntaa kylmänä kohti Pareton legendaarisiin Pornobileiden viettelyksiä. \nNyt jos koskaan olisi tarjolla sitä kiellettyä hedelmää – jos vain uskallat haukata… \n\n\n\nPidetään Boomin vappu kaikille turvallisena ja häirinnästä vapaana. Boomilla on nollatoleranssi häirinnälle ja epäasialliselle kohtelulle. Jos kuitenkin kohtaat epäsopivaa käytöstä\, voit ottaa yhteyttä Boomin häirintätukihenkilöihin. Halutessasi voit myös ottaa yhteyttä Trey:n häirintäyhdyshenkilöihin hairinta@trey.fi. Osallistumalla tapahtumaan sitoudut myös noudattamaan Boomin turvallisemman tilan periaatteita. Tapahtuman järjestäjällä on oikeus poistaa häiritsevästi käyttäytyvä henkilö tapahtumasta. \n\nMahdollisista tapahtumaan osallistumiseen vaikuttavista rajoitteista voi olla yhteydessä tapahtuman järjestäjään. Tapahtuman aikana voi olla yhteydessä Boomin häirintätukihenkilöihin tai tapahtuman turvahenkilöihin kaikista erityistarpeista\, esimerkiksi yliherkkyyksistä tai hiljaisen tilan tarpeista. Tapahtuman turvahenkilöistä tiedotetaan Boomin Telegramissa ennen tapahtumaa. Turvahenkilöt tunnistaa tapahtumapäivänä turvahenkilöpaidoista.
URL:https://boomi.fi/tapahtuma/kielletty-hedelma-pornobile-etkot/
LOCATION:Klubi 57\, Pinninkatu 57\, Tampere\, 33100\, Finland
CATEGORIES:Bileet ja juhlat
ATTACH;FMTTYPE=image/jpeg:https://boomi.fi/wp-content/uploads/2026/03/KIELLETTY-HEDELMA-scaled.jpg
ORGANIZER;CN="Boomi ry":MAILTO:hallitus@boomi.fi
END:VEVENT
BEGIN:VEVENT
DTSTART;TZID=Europe/Helsinki:20260414T210000
DTEND;TZID=Europe/Helsinki:20260414T233000
DTSTAMP:20260423T133113
CREATED:20260323T193731Z
LAST-MODIFIED:20260323T193731Z
UID:15790-1776200400-1776209400@boomi.fi
SUMMARY:Poikkitieteelliset Pornobileet 2026
DESCRIPTION:MITÄ: Poikkitieteelliset Pornobileet\nMISSÄ: Fame Club (Satakunnankatu 18)\nMILLOIN: Tiistaina 14.4.2026 klo 21 alkaen\nMITÄ MAKSAA: Kide.app 6 € (+narikka)\, ovelta 8 € (+narikka)\nLIPUT: Kide.app 2.4. klo 12\, ovelta klo 00 jälkeen\nMITÄ PÄÄLLE: Kinky ja/tai haalarit \nKevään rohkein opiskelijatapahtuma on täällä taas! Tule käynnistämään wappuviikot syntisen kuumassa illassa täynnä kiihkeää tunnelmaa\, opiskelijahintaisia juomia sekä unohtumattomia esiintyjiä. Heittäydy mukaan\, unohda arki ja anna yön viedä mukanaan – tätä unohtumatonta iltaa et halua ohittaa! \nBoomarit voivat ostaa pornobilelipun vappupassin oston yhteydessä! \nHUOM! Teeman laadun vuoksi tapahtumassa voi olla pornografista sisältöä ja alastomuutta. Tapahtumaan osallistumalla sitoudut noudattamaan turvallisemman tilan periaatteita. Tapahtuma on häirinnästä vapaa ja kaikkien osallistujien odotetaan käyttäytyvän asiallisesti ja edistävän tapahtuman turvallisuutta. Mikäli sopimatonta tai häiritsevää käytöstä ilmenee\, henkilö voidaan poistaa tapahtumasta.
URL:https://boomi.fi/tapahtuma/poikkitieteelliset-pornobileet-2026/
LOCATION:Fame Club\, Satakunnankatu 18\, Tampere\, 33210
CATEGORIES:Bileet ja juhlat
ATTACH;FMTTYPE=image/jpeg:https://boomi.fi/wp-content/uploads/2026/03/IMG_0329.jpg
END:VEVENT
END:VCALENDAR