BEGIN:VCALENDAR
VERSION:2.0
PRODID:-//Boomi ry - ECPv6.15.20//NONSGML v1.0//EN
CALSCALE:GREGORIAN
METHOD:PUBLISH
X-WR-CALNAME:Boomi ry
X-ORIGINAL-URL:https://boomi.fi
X-WR-CALDESC:Tapahtumat Boomi ry
REFRESH-INTERVAL;VALUE=DURATION:PT1H
X-Robots-Tag:noindex
X-PUBLISHED-TTL:PT1H
BEGIN:VTIMEZONE
TZID:Europe/Helsinki
BEGIN:DAYLIGHT
TZOFFSETFROM:+0200
TZOFFSETTO:+0300
TZNAME:EEST
DTSTART:20250330T010000
END:DAYLIGHT
BEGIN:STANDARD
TZOFFSETFROM:+0300
TZOFFSETTO:+0200
TZNAME:EET
DTSTART:20251026T010000
END:STANDARD
BEGIN:DAYLIGHT
TZOFFSETFROM:+0200
TZOFFSETTO:+0300
TZNAME:EEST
DTSTART:20260329T010000
END:DAYLIGHT
BEGIN:STANDARD
TZOFFSETFROM:+0300
TZOFFSETTO:+0200
TZNAME:EET
DTSTART:20261025T010000
END:STANDARD
BEGIN:DAYLIGHT
TZOFFSETFROM:+0200
TZOFFSETTO:+0300
TZNAME:EEST
DTSTART:20270328T010000
END:DAYLIGHT
BEGIN:STANDARD
TZOFFSETFROM:+0300
TZOFFSETTO:+0200
TZNAME:EET
DTSTART:20271031T010000
END:STANDARD
END:VTIMEZONE
BEGIN:VEVENT
DTSTART;TZID=Europe/Helsinki:20260422T100000
DTEND;TZID=Europe/Helsinki:20260422T140000
DTSTAMP:20260422T015210
CREATED:20260328T203157Z
LAST-MODIFIED:20260331T174625Z
UID:15890-1776852000-1776866400@boomi.fi
SUMMARY:EY Perensaaren sauna
DESCRIPTION:MITÄ: Excu Pereensaaren saunalle EY:n kanssa \nMILLOIN: Keskiviikkona 22.04. klo 9.30-14.00 Lähtö bussilla Tampere-talolta 💛 \nMITEN MUKAAN: Lipunmyynti Kide.Appissa 8.4. klo 14 \nMITÄ MAKSAA: No ei mitään! \n🌻 Tänäkin vappuna EY pitää boomareille ikimuistoisen vappuexcun\, jota ei kannata muiden vappuhulinoiden keskellä missata! Luvassa on EY:n tapaan maittava lounas sekä muutama vapaavalintainen juoma paikan päällä\, saunomista ja rentoa jutustelua EY:n edustajien kanssa. Tule siis kuulemaan yhdestä alan isoimmista tekijöistä sekä mahdollisista työmahdollisuuksista heillä. Äläkä unohda uikkareita kotiin\, sillä paikan päällä on sauna lämmin ja pyhäjärvi viileä. 🌊 \nHUOM: Pidäthän huolen että pääset mukaan edellispäivän alianssisilliksestä huolimatta.
URL:https://boomi.fi/tapahtuma/ey-perensaaren-sauna/
LOCATION:Pereensaaren sauna
CATEGORIES:Asia
ATTACH;FMTTYPE=image/jpeg:https://boomi.fi/wp-content/uploads/2026/03/EY-Sauna.jpg
END:VEVENT
END:VCALENDAR