BEGIN:VCALENDAR
VERSION:2.0
PRODID:-//Boomi ry - ECPv6.15.20//NONSGML v1.0//EN
CALSCALE:GREGORIAN
METHOD:PUBLISH
X-WR-CALNAME:Boomi ry
X-ORIGINAL-URL:https://boomi.fi
X-WR-CALDESC:Tapahtumat Boomi ry
REFRESH-INTERVAL;VALUE=DURATION:PT1H
X-Robots-Tag:noindex
X-PUBLISHED-TTL:PT1H
BEGIN:VTIMEZONE
TZID:Europe/Helsinki
BEGIN:DAYLIGHT
TZOFFSETFROM:+0200
TZOFFSETTO:+0300
TZNAME:EEST
DTSTART:20250330T010000
END:DAYLIGHT
BEGIN:STANDARD
TZOFFSETFROM:+0300
TZOFFSETTO:+0200
TZNAME:EET
DTSTART:20251026T010000
END:STANDARD
BEGIN:DAYLIGHT
TZOFFSETFROM:+0200
TZOFFSETTO:+0300
TZNAME:EEST
DTSTART:20260329T010000
END:DAYLIGHT
BEGIN:STANDARD
TZOFFSETFROM:+0300
TZOFFSETTO:+0200
TZNAME:EET
DTSTART:20261025T010000
END:STANDARD
BEGIN:DAYLIGHT
TZOFFSETFROM:+0200
TZOFFSETTO:+0300
TZNAME:EEST
DTSTART:20270328T010000
END:DAYLIGHT
BEGIN:STANDARD
TZOFFSETFROM:+0300
TZOFFSETTO:+0200
TZNAME:EET
DTSTART:20271031T010000
END:STANDARD
END:VTIMEZONE
BEGIN:VEVENT
DTSTART;TZID=Europe/Helsinki:20260423T170000
DTEND;TZID=Europe/Helsinki:20260423T233000
DTSTAMP:20260423T021338
CREATED:20260325T104010Z
LAST-MODIFIED:20260325T111120Z
UID:15815-1776963600-1776987000@boomi.fi
SUMMARY:Diskolympialaiset
DESCRIPTION:Sieltä saapuu sinihaalarinen kilpailijamme viimeiseen kaarteeseen. Askel näyttää hiukan hataralta\, menomehua on selvästi otettu alle jo ennen lähtöä. Juuri ennen maaliviivaa sankarimme kaatuu naamalleen. Lasse Virenin edesottamukset jäävät kakkoseksi\, kun atleettimme ei nousekaan pystyyn vaan hän KONTTAA maaliin. Melkoinen suoritus… \nMITÄ: Diskonttauksen Diskolympialaiset \nMILLOIN: 23.4. \nMISSÄ: Sorsapuistossa klo 17:00 \nMITEN MUKAAN: Liput myydään kideapissa torstaina 2.4. Klo 14 \nMITÄ MAKSAA: Joukkuelippu 25€\, kolmioliput erikseen lipunmyynnissä 7€ \nMIKSI: wabu ei lobu yms. \nRakkaat Urheilun ystävät! Diskonttauksen Diskolympialaiset palaavat jälleen suurempina kuin koskaan. Näissä olympialaisissa ei WADA juhli eli kaikki doping on sallittua sekä kielletytkin keinot jopa toivottuja. Kerää siis 5-6 hengen joukkue kasaan\, väsätkää tiimiasu\, harjoitelkaa armottomasti ja tulkaa nappaamaan Wappusataset itsellenne. Voittaja joukkue ja paras tiimiasu palkitaan jo tuttuun tapaan riihikuivalla. Rankkojen suoritusten jälkeen ilta jatkuu vielä Vappukolmioilla H5:ssa! \nLipunmyynnistä on mahdollista ostaa joukkuelippu (5-6 henk. Joukkue). Lisäksi lipunmyynnistä on mahdollista ostaa pelkkiä jatkolippuja Vappukolmioille eli vaikka urheilunhuuma ei napostelisi niin sykkeitä pääse nostattamaan myös H5 tahmaiselle tanssilattialle. Joukkuelippu sisältää osallistumisen olympialaisiin (rastikierros) sekä haalarimerkit. HUOM! Joukkuelippu ei sisällä jatkolippuja. Ilmiömäiset palkinnot eli wappusataset ovat tarjolla niin olympialaisten parhaalle joukkueelle sekä parhaalle tiimiasulle. Tiimiasuun panostaminen on siis enemmän kuin suotavaa. \nPidetään tapahtuma kaikille turvallisena ja häirinnästä vapaana. Boomilla on nollatoleranssi häirinnälle ja epäasialliselle kohtelulle. Jos kuitenkin kohtaat epäsopivaa käytöstä\, voit ottaa yhteyttä Boomin häirintätukihenkilöihin. Yhteystiedot Boomin häirintätukihenkilöille löytyvät osoitteesta https://boomi.fi/opiskelu/hairinta/. Halutessasi voit myös ottaa yhteyttä Trey:n häirintäyhdyshenkilöihin hairinta@trey.fi. Tapahtuman järjestäjä voi tarvittaessa poistaa häiritsevästi käyttäytyvän henkilön tapahtumasta. \nTapahtumajärjestäjä pyrkii ottamaan mahdolliset esteettömyystekijät huomioon\, ja niihin liittyviä kysymyksiä voi osoittaa sähköpostitse diskonttaus@boomi.fi. \nTapahtuma ei ole esteetön.
URL:https://boomi.fi/tapahtuma/diskolympialaiset-2026/
LOCATION:Sorsapuisto\, Sorsapuisto\, Tampere\, 33500\, Finland
CATEGORIES:Bileet ja juhlat
ATTACH;FMTTYPE=image/png:https://boomi.fi/wp-content/uploads/2026/03/DIDIDIDIDIDISKONTTAUS-Esitys-1.png
END:VEVENT
END:VCALENDAR