BEGIN:VCALENDAR
VERSION:2.0
PRODID:-//Boomi ry - ECPv6.15.20//NONSGML v1.0//EN
CALSCALE:GREGORIAN
METHOD:PUBLISH
X-ORIGINAL-URL:https://boomi.fi
X-WR-CALDESC:Tapahtumat Boomi ry
REFRESH-INTERVAL;VALUE=DURATION:PT1H
X-Robots-Tag:noindex
X-PUBLISHED-TTL:PT1H
BEGIN:VTIMEZONE
TZID:Europe/Helsinki
BEGIN:DAYLIGHT
TZOFFSETFROM:+0200
TZOFFSETTO:+0300
TZNAME:EEST
DTSTART:20250330T010000
END:DAYLIGHT
BEGIN:STANDARD
TZOFFSETFROM:+0300
TZOFFSETTO:+0200
TZNAME:EET
DTSTART:20251026T010000
END:STANDARD
BEGIN:DAYLIGHT
TZOFFSETFROM:+0200
TZOFFSETTO:+0300
TZNAME:EEST
DTSTART:20260329T010000
END:DAYLIGHT
BEGIN:STANDARD
TZOFFSETFROM:+0300
TZOFFSETTO:+0200
TZNAME:EET
DTSTART:20261025T010000
END:STANDARD
BEGIN:DAYLIGHT
TZOFFSETFROM:+0200
TZOFFSETTO:+0300
TZNAME:EEST
DTSTART:20270328T010000
END:DAYLIGHT
BEGIN:STANDARD
TZOFFSETFROM:+0300
TZOFFSETTO:+0200
TZNAME:EET
DTSTART:20271031T010000
END:STANDARD
END:VTIMEZONE
BEGIN:VEVENT
DTSTART;TZID=Europe/Helsinki:20260430T120000
DTEND;TZID=Europe/Helsinki:20260430T160000
DTSTAMP:20260423T132924
CREATED:20260323T181803Z
LAST-MODIFIED:20260323T181803Z
UID:15773-1777550400-1777564800@boomi.fi
SUMMARY:Paluu juurille -Vappubrunssi
DESCRIPTION:MITÄ: Paluu juurille -VappubrunssiMISSÄ: Klubi 57MILLOIN: 30.4 klo 12-16MIKSI: Nostalgiaa + skumppaetkot Koskenrantaan haloo?MITEN MUKAAN: Sisältyy vappupassiin \nMuistatko miltä maistui mummolan vastapaistettu munkki tai se ensimmäinen lasillinen sitä itse tehtyä simaa\, jossa rusinat tanssivat lasin pohjalla? \nPalaamme juurille. Tarjolla on annoksia\, jotka kunnioittavat maata jalkojemme alla ja lapsuutta sydämissämme. Olemme kurkistaneet vanhoihin reseptikirjoihin ja hakeneet inspiraatiota heräävästä luonnosta. \nPidetään Boomin vappu kaikille turvallisena ja häirinnästä vapaana. Boomilla on nollatoleranssi häirinnälle ja epäasialliselle kohtelulle. Jos kuitenkin kohtaat epäsopivaa käytöstä\, voit ottaa yhteyttä Boomin häirintätukihenkilöihin. Halutessasi voit myös ottaa yhteyttä Trey:n häirintäyhdyshenkilöihin hairinta@trey.fi. Osallistumalla tapahtumaan sitoudut myös noudattamaan Boomin turvallisemman tilan periaatteita. Tapahtuman järjestäjällä on oikeus poistaa häiritsevästi käyttäytyvä henkilö tapahtumasta.  \nMahdollisista tapahtumaan osallistumiseen vaikuttavista rajoitteista voi olla yhteydessä tapahtuman järjestäjään. Tapahtuman aikana voi olla yhteydessä Boomin häirintätukihenkilöihin tai tapahtuman turvahenkilöihin kaikista erityistarpeista\, esimerkiksi yliherkkyyksistä tai hiljaisen tilan tarpeista. Tapahtuman turvahenkilöistä tiedotetaan Boomin Telegramissa ennen tapahtumaa. Turvahenkilöt tunnistaa tapahtumapäivänä turvahenkilöpaidoista.
URL:https://boomi.fi/tapahtuma/paluu-juurille-vappubrunssi/
LOCATION:Boomilaakso\, Pinninkatu 57\, Tampere\, 33100\, Finland
CATEGORIES:Bileet ja juhlat,Hyvinvointi
ATTACH;FMTTYPE=image/png:https://boomi.fi/wp-content/uploads/2026/03/rottis-4.png
ORGANIZER;CN="Boomi ry":MAILTO:hallitus@boomi.fi
END:VEVENT
BEGIN:VEVENT
DTSTART;TZID=Europe/Helsinki:20260430T163000
DTEND;TZID=Europe/Helsinki:20260430T190000
DTSTAMP:20260423T132924
CREATED:20260323T151208Z
LAST-MODIFIED:20260323T151208Z
UID:15753-1777566600-1777575600@boomi.fi
SUMMARY:BARS Natuviinimaistelu feat. DJ Syrjähyppy
DESCRIPTION:MITÄ: Boomin Akateemisen Raittiusseuran natuviinimaistelu feat. DJ Syrjähyppy!!\nMISSÄ: Klubi 57\nMILLOIN: 30.4. klo 16:45 (ovet 16:15)\nMIKSI: Koska natuviinit maistuu!\nMITEN: Osta lippu Kide.appista 8.4. klo 12:00!\nMITÄ MAKSAA: 12€ \nRottiksen ranskalaiset ja nugetit vappubrunssilla saattaa jättää Boomarin janoiseksi\, mutta onneksi 30.4. on aika Boomin tuoreimman kerhon\, eli Boomin Akateemisen Raittiusseuran\, debyytille\, joka ei taatusti jätä ketään janoiseksi! \nVappuaatto kruunataan nimittäin Boomin oman\, lähes Kalliolaisen\, DJ Syrjähypyn juontamalla natuviinimaistelulla! Maistelussa päästään ihmettelemään mitä on natuviini\, kuinka pyöreältä se maistuu ja millaisen suutuntuman siitä saa. Natuviinit antaa myös erinomaisen aloituksen vappuaaton juhlintaan\, sillä nämähän kolahtaa päähän aika kovaa! \nÄlä pohdi tuleeko fomo\, vaan nappaa omat lippusi Kide.appista 8.4. klo 12:00! Nähdään Klubilla
URL:https://boomi.fi/tapahtuma/bars-natuviinimaistelu-feat-dj-syrjahyppy/
LOCATION:Klubi 57\, Pinninkatu 57\, Tampere\, 33100\, Finland
CATEGORIES:Bileet ja juhlat
ATTACH;FMTTYPE=image/png:https://boomi.fi/wp-content/uploads/2026/03/Boomin-Akateeminen-Raittiusseura-960-x-540-px.png
END:VEVENT
END:VCALENDAR