BEGIN:VCALENDAR
VERSION:2.0
PRODID:-//Boomi ry - ECPv6.15.20//NONSGML v1.0//EN
CALSCALE:GREGORIAN
METHOD:PUBLISH
X-WR-CALNAME:Boomi ry
X-ORIGINAL-URL:https://boomi.fi
X-WR-CALDESC:Tapahtumat Boomi ry
REFRESH-INTERVAL;VALUE=DURATION:PT1H
X-Robots-Tag:noindex
X-PUBLISHED-TTL:PT1H
BEGIN:VTIMEZONE
TZID:Europe/Helsinki
BEGIN:DAYLIGHT
TZOFFSETFROM:+0200
TZOFFSETTO:+0300
TZNAME:EEST
DTSTART:20240331T010000
END:DAYLIGHT
BEGIN:STANDARD
TZOFFSETFROM:+0300
TZOFFSETTO:+0200
TZNAME:EET
DTSTART:20241027T010000
END:STANDARD
BEGIN:DAYLIGHT
TZOFFSETFROM:+0200
TZOFFSETTO:+0300
TZNAME:EEST
DTSTART:20250330T010000
END:DAYLIGHT
BEGIN:STANDARD
TZOFFSETFROM:+0300
TZOFFSETTO:+0200
TZNAME:EET
DTSTART:20251026T010000
END:STANDARD
BEGIN:DAYLIGHT
TZOFFSETFROM:+0200
TZOFFSETTO:+0300
TZNAME:EEST
DTSTART:20260329T010000
END:DAYLIGHT
BEGIN:STANDARD
TZOFFSETFROM:+0300
TZOFFSETTO:+0200
TZNAME:EET
DTSTART:20261025T010000
END:STANDARD
END:VTIMEZONE
BEGIN:VEVENT
DTSTART;TZID=Europe/Helsinki:20250501T120000
DTEND;TZID=Europe/Helsinki:20250501T150000
DTSTAMP:20260419T214923
CREATED:20250319T104713Z
LAST-MODIFIED:20250319T145318Z
UID:12982-1746100800-1746111600@boomi.fi
SUMMARY:Kiertueen päätös -vappupiknik
DESCRIPTION:MITÄ: Yhdessäoloa\, hyvää musiikkia ja makoisia vappuherkkuja \nMISSÄ: Koskipuisto \nMILLOIN: 1.5. \nMIKSI: Koska tämä vappu ansaitsee arvoisensa päätöksen. Ja koska illalla on HAALARIBILEET \nKaikki loppuu aikanaan ja niin myös tämä monin eri tavoin soiva vappumme. \nOn tullut aika päättää vappu perinteisen vappupiknikin muodossa\, kun painetaan yhdessä valkolakit päähän ja kokoonnutaan nauttimaan vielä kerran vapun soinnuista ja sävelistä. Tarjolla on parhaiden vibojen lisäksi munkkeja ja simaa. Ota siis mukaan valkolakkisi\, vappuisa fiilis sekä opiskelukaverisi ja suuntaa Koskipuistoon! \nPidetään tapahtuma kaikille turvallisena ja häirinnästä vapaana. Boomilla on nollatoleranssi häirinnälle ja epäasialliselle kohtelulle. Jos kuitenkin kohtaat epäsopivaa käytöstä\, voit ottaa yhteyttä Boomin häirintätukihenkilöihin. Yhteystiedot Boomin häirintätukihenkilöille löytyvät osoitteesta https://boomi.fi/opiskelu/hairinta/. Halutessasi voit myös ottaa yhteyttä Trey:n häirintäyhdyshenkilöihin hairinta@trey.fi. Tapahtuman järjestäjä voi tarvittaessa poistaa häiritsevästi käyttäytyvän henkilön tapahtumasta. \nTapahtuma on esteetön. Tapahtumajärjestäjä pyrkii ottamaan mahdolliset esteettömyystekijät huomioon\, ja niihin liittyviä kysymyksiä voi osoittaa sähköpostitse tapahtumat@boomi.fi. \nTapahtuma sisältyy boomin vappupassiin\, jonka lipunmyynti on 31.3. klo 10
URL:https://boomi.fi/tapahtuma/kiertueen-paatos-vappupiknik/
LOCATION:Koskipuisto
ATTACH;FMTTYPE=image/jpeg:https://boomi.fi/wp-content/uploads/2025/03/vappupiknik-2-scaled.jpg
ORGANIZER;CN="Boomi ry":MAILTO:hallitus@boomi.fi
END:VEVENT
BEGIN:VEVENT
DTSTART;TZID=Europe/Helsinki:20250501T180000
DTEND;TZID=Europe/Helsinki:20250501T230000
DTSTAMP:20260419T214923
CREATED:20250411T114441Z
LAST-MODIFIED:20250411T114948Z
UID:13320-1746122400-1746140400@boomi.fi
SUMMARY:Boomi Sailing Clubin Merisairaus-sitsit
DESCRIPTION:MISSÄ: @ Klubi 57\, Pinninkatu 57\nMILLOIN: Torstaina 1.5. klo 18:00\, ovet 17:30\nMITÄ MAKSAA: Sitsilippu 12€\, sitsit + Haalaribileet 17€\nLIPUNMYYNTI: Kide.appissa 14.4. klo 12. Linkki lipunmyyntiin: https://kide.app/events/53be5fe6-dc57-437e-8eae-6d35803fa630\nPUKUKOODI: Vappu ja/tai merellinen tunnelma + haalarit\nMITÄ MUKAAN: Vappufiilis ja janoisemmille OPMJoko te luulitte\, että tällainen sekoilu olisi lopetettu? Väärässä olitte\, sillä vappu ei tunnetusti lopu\, tai jos loppuukin\, tulee se lopettaa rysäyksellä! Sailing Clubin rappiolliset lukuvuoden päätössitsit tulevat tänä vuonna suurempana kuin koskaan\, sillä kukapa ei haluaisi sitsata vappupäivänä! \nAivan kuten rexculla\, näilläkin sitseillä kevyestä huojumisesta ja heilumisesta voi syyttää laivaa\, eikä suinkaan vapun väsyttämää boomaria. Vapun kovimmat riennot ja Koskenrannassa vietetty iltapäivä saattavat jättää juhlijan hetkellisesti heikkoon happeen\, mutta Klubi 57:n vesillä kevyen vihertävän habituksen voi laittaa merisairauden piikkiin. \nVietettyäsi päivän Koskenrannassa vappupiknikillä katsellen teekkarien pulahdusta\, voit saapua rakkaaseen Klubi 57:aan juhlimaan vappua vielä kerran merellisissä tunnelmissa. Ilta ei lopu lyhyeen\, sillä jatkot ovat toukokuun Haalaribileissä\, missä on luvassa lukuvuoden viimeiset kekkerit ja tarjolla livemusiikkia. \nLipunmyynnistä löydät kaksi lipputyyppiä: sitsilippu 12€ ja sitsilippu + Haalaribileet 17€. Nappaa siis vappusimat ja lakit mukaan ja sitsaa vielä viimeisen kerran tänä lukuvuonna! \nTapahtumassa on paikalla turvahenkilöt\, jotka esitellään sitsien alussa. Pidetään tapahtuma kaikille turvallisena ja häirinnästä vapaana. Boomilla on nollatoleranssi häirinnälle ja epäasialliselle kohtelulle. Jos kuitenkin havaitset epäsopivaa käytöstä\, voit ottaa yhteyttä Boomin häirintätukihenkilöihin. Halutessasi voit myös ottaa yhteyttä TREY:n häirintäyhdyshenkilöihin hairinta@trey.fi. \nOsallistumalla tapahtumaan sitoudut myös noudattamaan Boomin turvallisemman tilan periaatteita. Tapahtuman järjestäjällä on oikeus poistaa häiritsevästi käyttäytyvä henkilö tapahtumasta.
URL:https://boomi.fi/tapahtuma/boomi-sailing-clubin-merisairaus-sitsit/
LOCATION:Klubi 57\, Pinninkatu 57\, Tampere\, 33100\, Finland
ATTACH;FMTTYPE=image/png:https://boomi.fi/wp-content/uploads/2025/04/Boomi-sailing-club-1920-x-1080-px.png
END:VEVENT
BEGIN:VEVENT
DTSTART;TZID=Europe/Helsinki:20250501T220000
DTEND;TZID=Europe/Helsinki:20250502T050000
DTSTAMP:20260419T214923
CREATED:20250411T115254Z
LAST-MODIFIED:20250411T115254Z
UID:13326-1746136800-1746162000@boomi.fi
SUMMARY:Toukokuun Poikkitieteelliset Haalaribileet – NEVER STOP THE VAPPU MADNESS
DESCRIPTION:MISSÄ: Viihdemaailma Ilona (Verkatehtaankatu 3) \nMILLOIN: Torstaina 1.5.2025 klo 22-04 \nMITEN: Ennakkolippu 5 €\, ovelta 6 €. Ennakkolipulliset ovat Ilonassa ovella ensisijaisia klo 23 saakka\, jonka jälkeen lippuja myydään 5 € hintaan tai jo aiemmin\, mikäli ennakkolipullisten jono loppuu. \nEnnakkoliput Kide.app-palvelusta tiistaina 15.4.2025 klo 12 \nNEVER STOP THE VAPPU MADNESS \nVapun riennot alkavat jo käymään haalarikansan kunnon päälle\, mutta vielä ei kuitenkaan ole aika hidastaa. Haalarit jalkaan\, serpentiinit kaulaan ja skumppalasi käteen – vappu jatkuu niin kauan kuin jaksetaan tanssia! \nNEVER STOP THE VAPPU MADNESS kruunaa vapun tarjoamalla ikonisen illan täynnä juhlahumua\, opiskelijahintaisia juomia sekä tanssilattian säihkeen\, jossa vappu ei lopu ennen aamunkoittoa! Ilta Ilonassa huipentuu\, kun huikea SPICY RED saapuu tanssittamaan vappukansan finaaliin \nVappusekoilua ei suinkaan ole lopetettu\, never stop the madness ja kohta vedetään taas! \nHuomaathan\, että Ilonan ovet aukeavat poikkeuksellisesti klo 22!
URL:https://boomi.fi/tapahtuma/toukokuun-poikkitieteelliset-haalaribileet-never-stop-the-vappu-madness/
LOCATION:Viihdemaailma Ilona\, Verkatehtaankatu 3\, Tampere\, 33100\, Finland
ATTACH;FMTTYPE=image/jpeg:https://boomi.fi/wp-content/uploads/2025/04/poikkarit-madness-2025-1920x1080-1.jpg
END:VEVENT
END:VCALENDAR