BEGIN:VCALENDAR
VERSION:2.0
PRODID:-//Boomi ry - ECPv6.15.20//NONSGML v1.0//EN
CALSCALE:GREGORIAN
METHOD:PUBLISH
X-WR-CALNAME:Boomi ry
X-ORIGINAL-URL:https://boomi.fi
X-WR-CALDESC:Tapahtumat Boomi ry
REFRESH-INTERVAL;VALUE=DURATION:PT1H
X-Robots-Tag:noindex
X-PUBLISHED-TTL:PT1H
BEGIN:VTIMEZONE
TZID:Europe/Helsinki
BEGIN:DAYLIGHT
TZOFFSETFROM:+0200
TZOFFSETTO:+0300
TZNAME:EEST
DTSTART:20240331T010000
END:DAYLIGHT
BEGIN:STANDARD
TZOFFSETFROM:+0300
TZOFFSETTO:+0200
TZNAME:EET
DTSTART:20241027T010000
END:STANDARD
BEGIN:DAYLIGHT
TZOFFSETFROM:+0200
TZOFFSETTO:+0300
TZNAME:EEST
DTSTART:20250330T010000
END:DAYLIGHT
BEGIN:STANDARD
TZOFFSETFROM:+0300
TZOFFSETTO:+0200
TZNAME:EET
DTSTART:20251026T010000
END:STANDARD
BEGIN:DAYLIGHT
TZOFFSETFROM:+0200
TZOFFSETTO:+0300
TZNAME:EEST
DTSTART:20260329T010000
END:DAYLIGHT
BEGIN:STANDARD
TZOFFSETFROM:+0300
TZOFFSETTO:+0200
TZNAME:EET
DTSTART:20261025T010000
END:STANDARD
END:VTIMEZONE
BEGIN:VEVENT
DTSTART;TZID=Europe/Helsinki:20250703T170000
DTEND;TZID=Europe/Helsinki:20250703T220000
DTSTAMP:20260421T114709
CREATED:20250616T171432Z
LAST-MODIFIED:20250616T171432Z
UID:13501-1751562000-1751580000@boomi.fi
SUMMARY:Alumnien ja Maistereiden Afterworkit Helsinki
DESCRIPTION:MISSÄ: Allas Sea Pool\, Katajanokanlaituri 2a 00160 Helsinki\nMILLON: Torstaina 3.7. Klo 17.00\nKENELLE: Kaikille Boomin alumneille & nykyisille jäsenille\nMITEN MUKAAN: Ilmoittaudu tästä linkistä: https://forms.office.com/e/dxmqVUKB08 2.7. mennessä\nMITÄ MAKSAA: ILMAINEN \nVaikka Tampereella komea järvi onkin\, niin välillä on hyvä päästä meri näkemään. Boomin kesän toinen afterwork tapahtuma suntaakin Helsinkiin\, missä Alumnien ja maistereiden afterwork tapahtuma päästää meidät nauttimaan Allas Sea Poolin ihanista löylyistä. Torstaina 3.7. kello 17.00 alkaen pääsemme vaihtamaan vapaalle ja nauttimaan rennosta tunnelmasta nykyisen sekä entisten boomareiden kanssa. \nAllas Sea Pool sijaitsee aivan Helsingin ytimessä meren rannalla (Katajanokanlaituri 2a 00160 Helsinki). Joten oli tämä sitten syysi matkustaa päiväksi isolle kirkolle\, mahdollisuutesi nähdä ketä muita on paennut Tampereelta Helsinkiin töihin tai mahdollisuus päästä näkemään hieno kohde etelärannalla\, niin toivottavasti näemme kanssasi paikan päällä! \nAftereille ovat kaikki tervetulleita\, halusi sitten löylyyn rentoutumaan tai ei\, mutta ilmoittautuminen on hyvä tehdä joka tapauksessa. Ilmoittautuminen on auki 2.7. 23.59 asti tämän linkin kautta: https://forms.office.com/e/dxmqVUKB08 . \nPidetään tapahtuma kaikille turvallisena ja häirinnästä vapaana. Boomilla on nollatoleranssi häirinnälle ja epäasialliselle kohtelulle. Jos kuitenkin kohtaat epäsopivaa käytöstä\, voit ottaa yhteyttä Boomin häirintätukihenkilöihin. Yhteystiedot löytyvät osoitteesta https://boomi.fi/opiskelu/hairinta/. Halutessasi voit myös ottaa yhteyttä Trey:n häirintäyhdyshenkilöihin hairinta@trey.fi .\nOsallistumalla tapahtumaan sitoudut myös noudattamaan Boomin turvallisemman tilan periaatteita (https://boomi.fi/turvallisemmantilan-periaatteet/). Tapahtuman järjestäjällä on oikeus poistaa häiritsevästi käyttäytyvä henkilö tapahtumasta.
URL:https://boomi.fi/tapahtuma/alumnien-ja-maistereiden-afterworkit-helsinki/
ATTACH;FMTTYPE=image/jpeg:https://boomi.fi/wp-content/uploads/2025/06/1.jpg
END:VEVENT
BEGIN:VEVENT
DTSTART;TZID=Europe/Helsinki:20250725T180000
DTEND;TZID=Europe/Helsinki:20250725T233000
DTSTAMP:20260421T114709
CREATED:20250630T131106Z
LAST-MODIFIED:20250630T131106Z
UID:13520-1753466400-1753486200@boomi.fi
SUMMARY:Boomin Perinteiset Kesäbileet
DESCRIPTION:MITÄ: BOOMIN PERINTEISET KESÄBILEET\nMISSÄ:  Klubi 57\, Pinninkatu 57\nMILLOIN:  Perjantai 25.7. klo 18:00\nMIKSI: Ketä ei haluais nähdä boomarikavereita myös kesällä?\nPALJONKO MAKSAA: Ei mitään tietenkään\nMITÄ PÄÄLLE: Kesäkuteet 😎 \nKoko kesän kohokohta lähestyy jälleen\, kun kesän (toivottava) kuumuus tuo mukanaan Boomin Perinteiset Kesäbileet! 😮‍💨 Ota irti arjesta ja saavu Klubi 57 vaihtamaan kuulumisia muiden Boomarien kanssa perjantaina 25.7. \nKesäbileet starttaavat klo 18:00\, mutta paikalle voi ilmestyä ihan oman aikataulun mukaan! Luvassa on hauskaa yhdessäoloa\, grilliruokaa\, kylmiä drinkkejä sekä tietysti hauskaa ohjelmaa! Sauna 57 ja palju pysyvät kuumina pitkälle yöhön\, joten nappaa mukaasi myös uima-asu ja pyyhe! \nKesäbileisiin ovat lämpimästi tervetulleita kaikki boomarit – alumneista nykyisiin opiskelijoihin\, eikä tietenkään unohdeta juuri opiskelupaikan saaneita! Kutsu siis mukaan myös ne kaverit\, jotka ovat juuri saaneet paikan Boomista. Nähdään taas heinäkuussa💙
URL:https://boomi.fi/tapahtuma/boomin-perinteiset-kesabileet/
LOCATION:Klubi 57\, Pinninkatu 57\, Tampere\, 33100\, Finland
ATTACH;FMTTYPE=image/jpeg:https://boomi.fi/wp-content/uploads/2025/06/kesabileet-banneri.jpg
ORGANIZER;CN="Boomi ry":MAILTO:hallitus@boomi.fi
END:VEVENT
END:VCALENDAR